BEGIN:VCALENDAR
VERSION:2.0
PRODID:-//Caminades.info - ECPv6.15.20//NONSGML v1.0//EN
CALSCALE:GREGORIAN
METHOD:PUBLISH
X-ORIGINAL-URL:https://caminades.info
X-WR-CALDESC:Esdeveniments per Caminades.info
REFRESH-INTERVAL;VALUE=DURATION:PT1H
X-Robots-Tag:noindex
X-PUBLISHED-TTL:PT1H
BEGIN:VTIMEZONE
TZID:Europe/Madrid
BEGIN:DAYLIGHT
TZOFFSETFROM:+0100
TZOFFSETTO:+0200
TZNAME:CEST
DTSTART:20250330T010000
END:DAYLIGHT
BEGIN:STANDARD
TZOFFSETFROM:+0200
TZOFFSETTO:+0100
TZNAME:CET
DTSTART:20251026T010000
END:STANDARD
BEGIN:DAYLIGHT
TZOFFSETFROM:+0100
TZOFFSETTO:+0200
TZNAME:CEST
DTSTART:20260329T010000
END:DAYLIGHT
BEGIN:STANDARD
TZOFFSETFROM:+0200
TZOFFSETTO:+0100
TZNAME:CET
DTSTART:20261025T010000
END:STANDARD
BEGIN:DAYLIGHT
TZOFFSETFROM:+0100
TZOFFSETTO:+0200
TZNAME:CEST
DTSTART:20270328T010000
END:DAYLIGHT
BEGIN:STANDARD
TZOFFSETFROM:+0200
TZOFFSETTO:+0100
TZNAME:CET
DTSTART:20271031T010000
END:STANDARD
END:VTIMEZONE
BEGIN:VEVENT
DTSTART;TZID=Europe/Madrid:20260426T080000
DTEND;TZID=Europe/Madrid:20260426T143000
DTSTAMP:20260421T055725
CREATED:20260410T162939Z
LAST-MODIFIED:20260410T162939Z
UID:3915-1777190400-1777213800@caminades.info
SUMMARY:Agulles de Montserrat
DESCRIPTION:Descripció:\nEl Diumenge 26 d’abril farem una excursió caminant 9 km (aprox.) amb un desnivell de 450 m. La dificultat és mitjana a causa d’un tram en què hi ha uns graons més grans de l’habitual (podrem ajudar a qui ho necessiti; per a la majoria és assequible).\nAnirem a: Can Maçana direcció refugi Vicenç Barbe on esmorzarem. Farem una circular passant per sota de la Roca Foradada.\nÉs una activitat gratuïta i oberta a tothom (podeu difondre aquesta informació) però és imprescindible la inscripció prèvia amb nom i cognom a: info@caminaires.catBona caminada!!\n  \n\nPunt de trobada a les 9.00 h:\n \n  \n\nNota:\nTotes les nostres sortides són gratuïtes i obertes a tothom; podeu difondre al màxim aquesta informació\, però tots els participants han d’acceptar els riscos inherents a la participació en una Ruta col·lectiva com aquesta\, i que eximeixen als Organitzadors dels CAMINAIRES DE LA GIRADA i Guies de l’excursió (que no són professionals) de les responsabilitats derivades de qualsevol perjudici que patís per deficiències en les infraestructures viàries\, senders\, recorreguts i camins. Així mateix\, cadascú ha d’admetre la possibilitat de patir o causar un accident a un tercer aliè a l’excursió col·lectiva\, assumint personalment la responsabilitat íntegra derivada d’aquests accidents\, excloent als CAMINAIRES DE LA GIRADA i qualsevol persona física o jurídica vinculada a l’organització d’aquesta excursió de qualsevol responsabilitat derivada d’aquests.
URL:https://caminades.info/activitats/agulles-de-montserrat/
CATEGORIES:CG
ATTACH;FMTTYPE=image/jpeg:https://caminades.info/wp-content/uploads/agullesMontserrat_007.jpg
ORGANIZER;CN="Caminaires de la Girada":MAILTO:info@caminaires.cat
END:VEVENT
BEGIN:VEVENT
DTSTART;TZID=Europe/Madrid:20260503T063000
DTEND;TZID=Europe/Madrid:20260503T203000
DTSTAMP:20260421T055725
CREATED:20260408T093844Z
LAST-MODIFIED:20260408T094230Z
UID:3904-1777789800-1777840200@caminades.info
SUMMARY:XXII Marxa de resistència 7 Cims
DESCRIPTION:Descripció:\nUn any més ens disposem a preparar una nova edició de la nostra marxa\, Marxa de Resistència 7 Cims\, en aquesta ja\, la 22a edició. \nEn aquesta edició\, realitzarem el mateix recorregut de l’edició passada\, amb un total de 54\,7 km. \nEsperem que aquesta sigui una molt bona experiència per a les noves persones participants com també per a les que repetiu i com no\, per l’organització i totes les persones col·laboradores que formem part d’aquest esdeveniment. \nSi et va la marxa\, t’hi esperem!! \nMés informació a la web del CEP \n  \n\nPunt d’inici de la marxa a les 6.30 h: \n \n\nInformació Addicional:\n\nOrganitza: Centre Excursionista del Penedès\nDesplaçament en cotxes particulars\nPer participar-hi cal inscripció
URL:https://caminades.info/activitats/xxii-marxa-de-resistencia-7-cims/
CATEGORIES:CEP
ATTACH;FMTTYPE=image/jpeg:https://caminades.info/wp-content/uploads/7-cims-2026.jpg
END:VEVENT
BEGIN:VEVENT
DTSTART;TZID=Europe/Madrid:20260503T090000
DTEND;TZID=Europe/Madrid:20260503T140000
DTSTAMP:20260421T055725
CREATED:20260405T221214Z
LAST-MODIFIED:20260415T172825Z
UID:3901-1777798800-1777816800@caminades.info
SUMMARY:18a Caminada popular El Foix
DESCRIPTION:Descripció:\nEn el marc de la reconeguda marxa de resistència 7 Cims que aquest any 2026 arriba a la seva 22a edició\, tenim també la caminada popular El Foix en la seva 17a edició. Aquesta caminada popular té l’objectiu de pujar a peu al Santuari de la Mare de Déu de Foix patrona del Penedès\, situat en un lloc enlairat i muntanyós on originàriament hi havia el castell de Foix datat del segle XI\, avui però malauradament en ruïnes. L’edifici del Santuari de Foix és d’estil romànic\, però ha experimentat moltes modificacions al llarg dels segles. Ara\, el seu conjunt és format per una edificació imponent situada a 660 metres d’altura\, oferint en un dia clar unes espectaculars vistes als dos vessants amb una extraordinària vista del Penedès. Aquest enclavament forma part de la ruta Miravinya\, que convida a veure i descobrir el Penedès des d’una altra mirada. En la nostra visita al Santuari de Foix podrem veure el seu interior i escoltar uns breus comentaris per part dels Amics del Santuari de Foix. En el nostre recorregut podem admirar l’important patrimoni arquitectònic i natural que significa el Santuari de Foix\, però també en l’itinerari tindrem altres al·licients per a les persones participants en aquesta nova edició de la caminada popular “El Foix”. \nNo t’ho perdis!! \n  \nEl nostre agraïment per la seva col·laboració a:  Ajuntament de Torrelles de Foix\, Associació Cívica del Santuari de Santa Maria de Foix\, ADF Alt Foix \nBona excursió a tothom!! \n  \n\nFotografies de la preparació:\n \n\nEl Santuari de la Mare de Déu de Foix\n  \n \n  \n\nPunt d’inici de la caminada a les 9.00 h:\n \n  \n\nInformació Addicional:\n\nOrganitza: Centre Excursionista del Penedès\nGuiada per: Toni Inglada\nSortida: en grup a les 09:00 h del matí del 3 de maig a la Plaça Nova de Torrelles de Foix.\nUn altre punt de sortida: a les 8:30 h davant de la Feca (ctra. Sant Martí) de Vilafranca del Penedès.\nRecorregut: guiat i en grup d’uns 12 km aproximadament.\nMaterial: cal portar aigua i esmorzar\, recomanable portar bastons.\nPreu: gratuït. No hi ha inscripcions.
URL:https://caminades.info/activitats/18a-caminada-popular-el-foix/
CATEGORIES:CEP
ATTACH;FMTTYPE=image/jpeg:https://caminades.info/wp-content/uploads/DJI_0508_500p.jpg
END:VEVENT
BEGIN:VEVENT
DTSTART;TZID=Europe/Madrid:20260517T080000
DTEND;TZID=Europe/Madrid:20260517T140000
DTSTAMP:20260421T055725
CREATED:20260330T104803Z
LAST-MODIFIED:20260420T133605Z
UID:3892-1779004800-1779026400@caminades.info
SUMMARY:La Vall del Suanya (Manresa)
DESCRIPTION:  \n\nDescripció:\nPendent de més informació \nBona excursió a tothom!! \n \n  \n\nFotografies de la preparació:\n \n  \n\nPunt de trobada a les 8.00 h:\n \n  \n\nPunt d’inici de la caminada a les 8:xx h:\n\n  \n\nInformació Addicional:\n\nOrganitza: Grup Anem a Caminar (Els Monjos)\nGuiada per Toni Inglada\nLloc de trobada: Aparcament del mercat dels Monjos\nHora: 8.00 h\nHora prevista de tornada: 14.00 h\nTransport: Cotxes particulars\nDificultat: Mitjana/fàcil\nCaminada circular gratuïta i oberta a tothom.\nCal portar: Aigua\, esmorzar i calçat adequant; i es recomana portar bastons.\nAgrairem no portar gossos en les nostres caminades.\nCalendari d’activitats pel 2026\nEnllaços per afegir-vos als grups de WhatsApp \n\n     (Grup obert a les sortides): https://chat.whatsapp.com/I67zMs7Y5k5DwyW2vVTiTl\n     (Grup sempre tancat): https://chat.whatsapp.com/DLaaNLAW731CAngTfoPNKW\n     Cal aprovació posterior\, per la qual cosa l’entrada no serà immediata\, però entrareu.\n     Els dos grups\, reben la mateixa informació per part dels administradors.
URL:https://caminades.info/activitats/la-vall-del-suanya-manresa/
CATEGORIES:GAC
ATTACH;FMTTYPE=image/jpeg:https://caminades.info/wp-content/uploads/Suanya01.jpg
END:VEVENT
END:VCALENDAR