BEGIN:VCALENDAR
VERSION:2.0
PRODID:-//Caminades.info - ECPv6.15.20//NONSGML v1.0//EN
CALSCALE:GREGORIAN
METHOD:PUBLISH
X-WR-CALNAME:Caminades.info
X-ORIGINAL-URL:https://caminades.info
X-WR-CALDESC:Esdeveniments per Caminades.info
REFRESH-INTERVAL;VALUE=DURATION:PT1H
X-Robots-Tag:noindex
X-PUBLISHED-TTL:PT1H
BEGIN:VTIMEZONE
TZID:Europe/Madrid
BEGIN:DAYLIGHT
TZOFFSETFROM:+0100
TZOFFSETTO:+0200
TZNAME:CEST
DTSTART:20250330T010000
END:DAYLIGHT
BEGIN:STANDARD
TZOFFSETFROM:+0200
TZOFFSETTO:+0100
TZNAME:CET
DTSTART:20251026T010000
END:STANDARD
BEGIN:DAYLIGHT
TZOFFSETFROM:+0100
TZOFFSETTO:+0200
TZNAME:CEST
DTSTART:20260329T010000
END:DAYLIGHT
BEGIN:STANDARD
TZOFFSETFROM:+0200
TZOFFSETTO:+0100
TZNAME:CET
DTSTART:20261025T010000
END:STANDARD
BEGIN:DAYLIGHT
TZOFFSETFROM:+0100
TZOFFSETTO:+0200
TZNAME:CEST
DTSTART:20270328T010000
END:DAYLIGHT
BEGIN:STANDARD
TZOFFSETFROM:+0200
TZOFFSETTO:+0100
TZNAME:CET
DTSTART:20271031T010000
END:STANDARD
END:VTIMEZONE
BEGIN:VEVENT
DTSTART;TZID=Europe/Madrid:20260125T090000
DTEND;TZID=Europe/Madrid:20260125T140000
DTSTAMP:20260421T230254
CREATED:20260113T103544Z
LAST-MODIFIED:20260113T104014Z
UID:3794-1769331600-1769349600@caminades.info
SUMMARY:Caminada als  Pins de Can Rigol (14 km)
DESCRIPTION:Descripció:\nDiumenge  25 de gener de 2026\, sortida del Parc de la Pau de Sant Martí Sarroca a les 9 h del matí.\n \nRecorregut: Parc de la Pau\, Can Rabell\, Romaní\, cal Barraló\, Pins de can Rigol\, Rovellats\, barri d’Escanella\, Cal Fanguet\, el Mas\, Cal Carboner i Parc de la Pau.\n14 quilòmetres planers\, passant per camins de conreu i de comunicació entre nuclis de població de la comarca.Cal portar bon calçat\, esmorzar i aigua.\n \n  \nAquí tens el cartell de la sortida en format PDF \n \n  \n\nPunt de trobada:\nParc de la Pau\, a les 9.00 h. \n \n\nNotes:\nL’hora de tornada és orientativa. \n  \n\nAVÍS:\nLes caminades organitzades per Tot martinejant són gratuïtes i obertes a tothom\, però els participants han d’acceptar els riscos de participar en una ruta col·lectiva com aquesta i eximir els organitzadors i guies de l’excursió (que no són professionals) de les responsabilitats de qualsevol perjudici que puguin patir a causa de l’estat dels camins o dels senders. Així mateix\, cadascú ha d’admetre la possibilitat de patir o causar un accident a un tercer aliè a l’excursió\, assumint personalment la responsabilitat íntegra derivada d’aquests accidents\, excloent qualsevol persona física o jurídica vinculada a l’organització de l’excursió de qualsevol responsabilitat que se’n pugui derivar per aquesta causa.
URL:https://caminades.info/activitats/caminada-als-pins-de-can-rigol-14-km/
CATEGORIES:TOTM
ATTACH;FMTTYPE=image/jpeg:https://caminades.info/wp-content/uploads/TOT_PASSEJANT_CAN-RIGOL.jpg
END:VEVENT
END:VCALENDAR