BEGIN:VCALENDAR
VERSION:2.0
PRODID:-//Caminades.info - ECPv6.15.20//NONSGML v1.0//EN
CALSCALE:GREGORIAN
METHOD:PUBLISH
X-ORIGINAL-URL:https://caminades.info
X-WR-CALDESC:Esdeveniments per Caminades.info
REFRESH-INTERVAL;VALUE=DURATION:PT1H
X-Robots-Tag:noindex
X-PUBLISHED-TTL:PT1H
BEGIN:VTIMEZONE
TZID:Europe/Madrid
BEGIN:DAYLIGHT
TZOFFSETFROM:+0100
TZOFFSETTO:+0200
TZNAME:CEST
DTSTART:20240331T010000
END:DAYLIGHT
BEGIN:STANDARD
TZOFFSETFROM:+0200
TZOFFSETTO:+0100
TZNAME:CET
DTSTART:20241027T010000
END:STANDARD
BEGIN:DAYLIGHT
TZOFFSETFROM:+0100
TZOFFSETTO:+0200
TZNAME:CEST
DTSTART:20250330T010000
END:DAYLIGHT
BEGIN:STANDARD
TZOFFSETFROM:+0200
TZOFFSETTO:+0100
TZNAME:CET
DTSTART:20251026T010000
END:STANDARD
BEGIN:DAYLIGHT
TZOFFSETFROM:+0100
TZOFFSETTO:+0200
TZNAME:CEST
DTSTART:20260329T010000
END:DAYLIGHT
BEGIN:STANDARD
TZOFFSETFROM:+0200
TZOFFSETTO:+0100
TZNAME:CET
DTSTART:20261025T010000
END:STANDARD
END:VTIMEZONE
BEGIN:VEVENT
DTSTART;TZID=Europe/Madrid:20251214T083000
DTEND;TZID=Europe/Madrid:20251214T140000
DTSTAMP:20260422T055215
CREATED:20251202T210513Z
LAST-MODIFIED:20251202T210826Z
UID:3705-1765701000-1765720800@caminades.info
SUMMARY:De Font-rubí a la Cova de Bolet
DESCRIPTION:Descripció:\nDiumenge  14 de desembre\, sortida des del Parc de la Pau de Sant Martí Sarroca a les 8.30 h (2/4 de nou del matí) per compartir cotxe o a les 9 h al Balcó de Penedès\, a Font-rubí.Caminada d’uns 10 quilòmetres i unes quatre hores de durada en solidaritat amb els objectius de la Marató de TV3 2025 contra el càncer. La ruta començarà a Font-rubí i continuarà per la Cova de l’Arena\, Cova de Bolet\, Font de Conilles i tornada a Font-rubí.  \n  \nAquí tens el cartell de la sortida en format PDF \n \n  \n\nPunt de trobada:\nParc de la Pau\, a les 8.30 h. \n \n\nPunt d’inici de la caminada:\nBalcó del Penedès a Font-rubí a les 9 h. \n \n  \n\nNotes:\nEs recomana portar esmorzar\, aigua\, un calçat adequat i bastons per algun tram de la ruta. \n  \n\nAVÍS:\nLes caminades organitzades per Tot martinejant són gratuïtes i obertes a tothom\, però els participants han d’acceptar els riscos de participar en una ruta col·lectiva com aquesta i eximir els organitzadors i guies de l’excursió (que no són professionals) de les responsabilitats de qualsevol perjudici que puguin patir a causa de l’estat dels camins o dels senders. Així mateix\, cadascú ha d’admetre la possibilitat de patir o causar un accident a un tercer aliè a l’excursió\, assumint personalment la responsabilitat íntegra derivada d’aquests accidents\, excloent qualsevol persona física o jurídica vinculada a l’organització de l’excursió de qualsevol responsabilitat que se’n pugui derivar per aquesta causa.
URL:https://caminades.info/activitats/de-font-rubi-a-la-cova-de-bolet/
CATEGORIES:TOTM
ATTACH;FMTTYPE=image/jpeg:https://caminades.info/wp-content/uploads/cova-del-Bolet.jpg
END:VEVENT
END:VCALENDAR