BEGIN:VCALENDAR
VERSION:2.0
PRODID:-//Caminades.info - ECPv6.15.20//NONSGML v1.0//EN
CALSCALE:GREGORIAN
METHOD:PUBLISH
X-ORIGINAL-URL:https://caminades.info
X-WR-CALDESC:Esdeveniments per Caminades.info
REFRESH-INTERVAL;VALUE=DURATION:PT1H
X-Robots-Tag:noindex
X-PUBLISHED-TTL:PT1H
BEGIN:VTIMEZONE
TZID:Europe/Madrid
BEGIN:DAYLIGHT
TZOFFSETFROM:+0100
TZOFFSETTO:+0200
TZNAME:CEST
DTSTART:20240331T010000
END:DAYLIGHT
BEGIN:STANDARD
TZOFFSETFROM:+0200
TZOFFSETTO:+0100
TZNAME:CET
DTSTART:20241027T010000
END:STANDARD
BEGIN:DAYLIGHT
TZOFFSETFROM:+0100
TZOFFSETTO:+0200
TZNAME:CEST
DTSTART:20250330T010000
END:DAYLIGHT
BEGIN:STANDARD
TZOFFSETFROM:+0200
TZOFFSETTO:+0100
TZNAME:CET
DTSTART:20251026T010000
END:STANDARD
BEGIN:DAYLIGHT
TZOFFSETFROM:+0100
TZOFFSETTO:+0200
TZNAME:CEST
DTSTART:20260329T010000
END:DAYLIGHT
BEGIN:STANDARD
TZOFFSETFROM:+0200
TZOFFSETTO:+0100
TZNAME:CET
DTSTART:20261025T010000
END:STANDARD
END:VTIMEZONE
BEGIN:VEVENT
DTSTART;TZID=Europe/Madrid:20251012T080000
DTEND;TZID=Europe/Madrid:20251012T140000
DTSTAMP:20260423T081744
CREATED:20250719T100309Z
LAST-MODIFIED:20250924T183342Z
UID:3406-1760256000-1760277600@caminades.info
SUMMARY:Renovació de la senyera de Crestabocs
DESCRIPTION:Descripció:\nCaminada matinal amb esmorzar inclòs (pa amb tomàquet\, botifarra\, vi\, aigua i coca de forner) i pujada a Crestabocs per renovar la senyera. \nAquesta activitat està inclosa dins els actes de la Festa de la Collita 2025 que organitza el Centre Agrícola de Sant Pau. \nMés informació en el PDF. \n\n  \n\nPunt de trobada a les 8.00 h:\n \n  \n\nNotes:\n\nOrganitzat per: GECASP (Sant Pau d’Ordal)\nCol·laboren: Centre Agrícola\, A.D.F. Subirats\, Carnisseria Cal Quim\, Granier.\nLloc de trobada: plaça de Subirats\nHora: 8.00 h
URL:https://caminades.info/activitats/renovacio-de-la-senyera-de-crestabocs-2/
CATEGORIES:GECASP
ATTACH;FMTTYPE=image/jpeg:https://caminades.info/wp-content/uploads/crestabocs-1.jpg
END:VEVENT
END:VCALENDAR