BEGIN:VCALENDAR
VERSION:2.0
PRODID:-//Caminades.info - ECPv6.15.20//NONSGML v1.0//EN
CALSCALE:GREGORIAN
METHOD:PUBLISH
X-ORIGINAL-URL:https://caminades.info
X-WR-CALDESC:Esdeveniments per Caminades.info
REFRESH-INTERVAL;VALUE=DURATION:PT1H
X-Robots-Tag:noindex
X-PUBLISHED-TTL:PT1H
BEGIN:VTIMEZONE
TZID:Europe/Madrid
BEGIN:DAYLIGHT
TZOFFSETFROM:+0100
TZOFFSETTO:+0200
TZNAME:CEST
DTSTART:20240331T010000
END:DAYLIGHT
BEGIN:STANDARD
TZOFFSETFROM:+0200
TZOFFSETTO:+0100
TZNAME:CET
DTSTART:20241027T010000
END:STANDARD
BEGIN:DAYLIGHT
TZOFFSETFROM:+0100
TZOFFSETTO:+0200
TZNAME:CEST
DTSTART:20250330T010000
END:DAYLIGHT
BEGIN:STANDARD
TZOFFSETFROM:+0200
TZOFFSETTO:+0100
TZNAME:CET
DTSTART:20251026T010000
END:STANDARD
BEGIN:DAYLIGHT
TZOFFSETFROM:+0100
TZOFFSETTO:+0200
TZNAME:CEST
DTSTART:20260329T010000
END:DAYLIGHT
BEGIN:STANDARD
TZOFFSETFROM:+0200
TZOFFSETTO:+0100
TZNAME:CET
DTSTART:20261025T010000
END:STANDARD
END:VTIMEZONE
BEGIN:VEVENT
DTSTART;TZID=Europe/Madrid:20251123T080000
DTEND;TZID=Europe/Madrid:20251123T140000
DTSTAMP:20260424T013528
CREATED:20251006T134152Z
LAST-MODIFIED:20251124T112214Z
UID:3598-1763884800-1763906400@caminades.info
SUMMARY:Sant Ponç de Corbera (Cervelló)
DESCRIPTION:Descripció:\nSortida especial de tardor\nEn aquesta ruta podrem visitar l’entorn de l’antic monestir de Sant Ponç i l’imponent viaducte del Lledoner\, dintre d’una de les zones més belles i frondoses de l’Espai Natural Protegit de les Muntanyes d’Ordal\, cadena muntanyosa que s’estén per diferents municipis de les comarques de l’Alt Penedès i el Baix Llobregat. Gaudirem d’un bosc amb bon estat de conservació en aquest sector per on transcorre la nostra caminada\, dintre de la que hi trobarem l’església romànica del segle XI de Sant Ponç de Corbera que tot i ser molt propera a Corbera de Llobregat\, parròquia de la qual en depèn\, pertany al municipi de Cervelló. Originàriament\, aquesta bella església romànica d’estil llombard formava part d’un monestir benedictí que en l’actualitat ja no existeix. En línies generals l’edifici es troba en magnífic estat de conservació i en les diferents fases de restauració sempre s’ha tingut en compte la seva construcció originària sense pràcticament cap modificació. L’any 1931 es va declarar Monument Històric-Artístic i l’església de Sant Ponç de Corbera es pot visitar el primer diumenge de cada mes al matí. El segon diumenge de maig és una data que tenen present la gent de Corbera\, donat que se celebra el popular aplec de Sant Ponç amb dinars a l’aire lliure i ball de sardanes entre altres activitats. L’aplec de Sant Ponç és un esdeveniment anual ben esperat\, ja que aquest es realitza en el marc d’un indret preciós. \nUn altre punt del nostre recorregut que ens sorprendrà és el pont o viaducte del Lledoner\, una joia d’enginyeria civil del segle XVIII. Aquest viaducte de 32 metres d’alçada i 120 de llargada destaca pels seus arcs robustos i transitables pel seu interior\, on nosaltres passarem explorant dintre de la seva estructura monumental que conté nou arcs a la part inferior i tretze a la superior. El pont del Lledoner es troba entre els termes municipals de Cervelló i Vallirana. A mitjans del segle XVIII durant el regnat de Carles III es va a començar a dissenyar el precedent de les principals actuacions previstes per facilitar la comunicació per carretera entre Madrid i Barcelona. Entre els més ambiciosos i costosos hi figurava el pont del Lledoner que va trigar gairebé 30 anys a acabar-se donades les dificultats orogràfiques del territori\, entrant en servei l’any 1802. Està catalogat com a Bé Cultural d’Interès Local. \nAquesta sortida especial de tardor\, dintre d’una gran bellesa natural\, ens portarà a descobrir també verdaderes joies patrimonials. \nBona excursió a tothom!! \n \n  \n\nFotografia de grup:\nClic a la imatge per ampliar \n  \n\nFotografies de la preparació:\n \n  \n\nPunt de trobada a les 8.00 h:\n \n  \n\nPunt d’inici de la caminada a les 8:30 h:\n\n  \n\nInformació Addicional:\n\nOrganitza: Grup Anem a Caminar (Els Monjos)\nGuiada per Toni Inglada\nLloc de trobada: Aparcament del mercat dels Monjos\nHora: 8.00 h\nHora prevista de tornada: 14.00 h\nTransport: Cotxes particulars\nDificultat: Mitjana/fàcil\nCaminada circular gratuïta i oberta a tothom.\nCal portar: Aigua\, esmorzar i calçat adequant; i es recomana portar bastons.\nAgrairem no portar gossos en les nostres caminades.\nEnllaç per afegir-vos al grup de WhatsApp (obert a les sortides): https://chat.whatsapp.com/I67zMs7Y5k5DwyW2vVTiTl\nEnllaç per afegir-vos al grup de WhatsApp (sempre tancat): https://chat.whatsapp.com/DLaaNLAW731CAngTfoPNKW\nCal aprovació posterior\, per la qual cosa l’entrada no serà immediata\, però entrareu.\nCalendari d’activitats pel 2025\n\n 
URL:https://caminades.info/activitats/sant-ponc-de-corbera-cervello/
CATEGORIES:GAC
ATTACH;FMTTYPE=image/jpeg:https://caminades.info/wp-content/uploads/Sant-Ponc-de-Corbera.jpg
END:VEVENT
END:VCALENDAR