BEGIN:VCALENDAR
VERSION:2.0
PRODID:-//Caminades.info - ECPv6.15.20//NONSGML v1.0//EN
CALSCALE:GREGORIAN
METHOD:PUBLISH
X-ORIGINAL-URL:https://caminades.info
X-WR-CALDESC:Esdeveniments per Caminades.info
REFRESH-INTERVAL;VALUE=DURATION:PT1H
X-Robots-Tag:noindex
X-PUBLISHED-TTL:PT1H
BEGIN:VTIMEZONE
TZID:Europe/Madrid
BEGIN:DAYLIGHT
TZOFFSETFROM:+0100
TZOFFSETTO:+0200
TZNAME:CEST
DTSTART:20240331T010000
END:DAYLIGHT
BEGIN:STANDARD
TZOFFSETFROM:+0200
TZOFFSETTO:+0100
TZNAME:CET
DTSTART:20241027T010000
END:STANDARD
BEGIN:DAYLIGHT
TZOFFSETFROM:+0100
TZOFFSETTO:+0200
TZNAME:CEST
DTSTART:20250330T010000
END:DAYLIGHT
BEGIN:STANDARD
TZOFFSETFROM:+0200
TZOFFSETTO:+0100
TZNAME:CET
DTSTART:20251026T010000
END:STANDARD
BEGIN:DAYLIGHT
TZOFFSETFROM:+0100
TZOFFSETTO:+0200
TZNAME:CEST
DTSTART:20260329T010000
END:DAYLIGHT
BEGIN:STANDARD
TZOFFSETFROM:+0200
TZOFFSETTO:+0100
TZNAME:CET
DTSTART:20261025T010000
END:STANDARD
END:VTIMEZONE
BEGIN:VEVENT
DTSTART;TZID=Europe/Madrid:20250601T090000
DTEND;TZID=Europe/Madrid:20250601T113000
DTSTAMP:20260422T041524
CREATED:20250516T122437Z
LAST-MODIFIED:20250603T094833Z
UID:3325-1748768400-1748777400@caminades.info
SUMMARY:Parc del Foix (Remeiart 2025)
DESCRIPTION:Descripció:\nEn la fira Remeiart de Santa Margarida i els Monjos\, tindrà lloc aquest diumenge la Caminada Popular que\, com en anteriors edicions\, serà dins el Parc del Foix i d’un nivell assequible per a la majoria de persones. El recorregut no serà massa llarg per permetre la visita\, a una hora prudent\, de les instal·lacions i les diferents propostes de la fira. \nBona caminada a tothom!! \n \n\nFotografia de grup:\n \n  \n\nFotografies de la zona:\n \n  \n\nPunt d’inici de la caminada a les 9:00 h:\n\n  \n\nPunt on es poden deixar els vehicles:\n \n  \n\nInformació Addicional:\n\nOrganitza: Grup Anem a Caminar (Els Monjos)\nGuiada per Toni Inglada\nLloc de sortida: Castell de Penyafort (Santa Margarida i els Monjos)\nHora: 9.00 h\nHora prevista de finalització: 11.30 h\nSortida gratuïta i oberta a tothom\nCal portar beguda i esmorzar.\nEs recomana portar calçat adequat per muntanya i bastons.\nNota: A causa de la gran afluència de persones a la fira Remeiart\, aquest dia no es pot accedir fins al castell en cotxes particulars. Cal doncs tenir-ho en compte i arribar a la zona d’aparcament\, al costat de l’empresa Ondunova\, amb prou temps per poder ser a les 9.00 h al castell. En 10 minuts es pot fer aquest trajecte a peu.\n\n 
URL:https://caminades.info/activitats/parc-del-foix-remeiart-2025/
CATEGORIES:GAC
ATTACH;FMTTYPE=image/jpeg:https://caminades.info/wp-content/uploads/sanabra_500.jpg
END:VEVENT
END:VCALENDAR