BEGIN:VCALENDAR
VERSION:2.0
PRODID:-//Caminades.info - ECPv6.15.20//NONSGML v1.0//EN
CALSCALE:GREGORIAN
METHOD:PUBLISH
X-ORIGINAL-URL:https://caminades.info
X-WR-CALDESC:Esdeveniments per Caminades.info
REFRESH-INTERVAL;VALUE=DURATION:PT1H
X-Robots-Tag:noindex
X-PUBLISHED-TTL:PT1H
BEGIN:VTIMEZONE
TZID:Europe/Madrid
BEGIN:DAYLIGHT
TZOFFSETFROM:+0100
TZOFFSETTO:+0200
TZNAME:CEST
DTSTART:20240331T010000
END:DAYLIGHT
BEGIN:STANDARD
TZOFFSETFROM:+0200
TZOFFSETTO:+0100
TZNAME:CET
DTSTART:20241027T010000
END:STANDARD
BEGIN:DAYLIGHT
TZOFFSETFROM:+0100
TZOFFSETTO:+0200
TZNAME:CEST
DTSTART:20250330T010000
END:DAYLIGHT
BEGIN:STANDARD
TZOFFSETFROM:+0200
TZOFFSETTO:+0100
TZNAME:CET
DTSTART:20251026T010000
END:STANDARD
BEGIN:DAYLIGHT
TZOFFSETFROM:+0100
TZOFFSETTO:+0200
TZNAME:CEST
DTSTART:20260329T010000
END:DAYLIGHT
BEGIN:STANDARD
TZOFFSETFROM:+0200
TZOFFSETTO:+0100
TZNAME:CET
DTSTART:20261025T010000
END:STANDARD
END:VTIMEZONE
BEGIN:VEVENT
DTSTART;TZID=Europe/Madrid:20250316T080000
DTEND;TZID=Europe/Madrid:20250316T140000
DTSTAMP:20260424T014025
CREATED:20250212T132045Z
LAST-MODIFIED:20250305T174636Z
UID:3157-1742112000-1742133600@caminades.info
SUMMARY:El Paratge de la Malesa (La Torre de Claramunt)
DESCRIPTION:Descripció:\nEl Paratge de la Malesa és una obaga humida i atapeïda d’una vegetació exuberant a tocar del riu d’Agost\, per dessota del poble de la Torre de Claramunt. És un veritable oasi amb presència d’alzines\, aurons\, freixes\, boix grèvol i galzeran. En el nostre recorregut visitarem aquest preuat espai natural des d’on tindrem una immillorable vista de l’església parroquial de Sant Joan Baptista i del castell de la Torre de Claramunt\, el qual fou una avançada depenent del castell de la Pobla de Claramunt que amb el pas dels segles esdevingué cada vegada més estratègic. Al final del segle X devia ser una torre de vigilància pel control de la vall\, així com del camí vers el Penedès. En el segle XV la torre ja consta d’una sèrie de dependències. Posteriors ampliacions i modificacions han permès arribar en bon estat a l’actualitat. \nEl nostre recorregut tindrà el seu inici i final en l’altiplà on és ubicat el poble de la Torre de Claramunt per desplaçar-nos fins al nucli de població de Vilanova d’Espoia\, descrivint una volta circular en la que passarem per un tram fluvial del riu d’Agost\, arribant a l’església romànica de Sant Salvador d’Espoia\, una construcció aixecada a mitjans del segle XII construïda per assistir-hi els habitants que vivien al voltant de la Casa Senyorial que pertanyia als senyors de Claramunt.\nLa nostra molt interessant caminada ens permetrà visitar el poble de la Torre de Claramunt i el nucli de població de Vilanova d’Espoia\, com també gaudir dels frondosos boscos de la Serra d’Espoia\, així com recórrer la bellesa natural del Paratge de la Malesa.\nBona excursió a tothom!! \n \n  \n\nFotografies de la preparació:\n \n  \n\nPunt de trobada a les 8.00 h:\n \n  \n\nPunt d’inici de la caminada a les 8:45 h:\n\n  \n\nInformació Addicional:\n\nOrganitza: Grup Anem a Caminar (Els Monjos)\nGuiada per Toni Inglada\nLloc de trobada: Aparcament del mercat dels Monjos\nHora: 8.00 h\nHora prevista de tornada: 14.00 h\nTransport: Cotxes particulars\nDificultat: Mitjana/fàcil\nCaminada circular gratuïta i oberta a tothom.\nCal portar: Aigua\, esmorzar i calçat adequant; i es recomana portar bastons.\nAgrairem no portar gossos en les nostres caminades.\nEnllaç per afegir-vos al grup de WhatsApp: https://chat.whatsapp.com/I67zMs7Y5k5DwyW2vVTiTl\nCal aprovació posterior\, per la qual cosa l’entrada no serà immediata\, però entrareu.\nCalendari d’activitats pel 2025\n\n 
URL:https://caminades.info/activitats/el-paratge-de-la-malesa-la-torre-de-claramunt/
CATEGORIES:GAC
ATTACH;FMTTYPE=image/jpeg:https://caminades.info/wp-content/uploads/paratgeLaMalesa.jpeg
END:VEVENT
END:VCALENDAR