BEGIN:VCALENDAR
VERSION:2.0
PRODID:-//Caminades.info - ECPv6.15.20//NONSGML v1.0//EN
CALSCALE:GREGORIAN
METHOD:PUBLISH
X-WR-CALNAME:Caminades.info
X-ORIGINAL-URL:https://caminades.info
X-WR-CALDESC:Esdeveniments per Caminades.info
REFRESH-INTERVAL;VALUE=DURATION:PT1H
X-Robots-Tag:noindex
X-PUBLISHED-TTL:PT1H
BEGIN:VTIMEZONE
TZID:Europe/Madrid
BEGIN:DAYLIGHT
TZOFFSETFROM:+0100
TZOFFSETTO:+0200
TZNAME:CEST
DTSTART:20240331T010000
END:DAYLIGHT
BEGIN:STANDARD
TZOFFSETFROM:+0200
TZOFFSETTO:+0100
TZNAME:CET
DTSTART:20241027T010000
END:STANDARD
BEGIN:DAYLIGHT
TZOFFSETFROM:+0100
TZOFFSETTO:+0200
TZNAME:CEST
DTSTART:20250330T010000
END:DAYLIGHT
BEGIN:STANDARD
TZOFFSETFROM:+0200
TZOFFSETTO:+0100
TZNAME:CET
DTSTART:20251026T010000
END:STANDARD
BEGIN:DAYLIGHT
TZOFFSETFROM:+0100
TZOFFSETTO:+0200
TZNAME:CEST
DTSTART:20260329T010000
END:DAYLIGHT
BEGIN:STANDARD
TZOFFSETFROM:+0200
TZOFFSETTO:+0100
TZNAME:CET
DTSTART:20261025T010000
END:STANDARD
END:VTIMEZONE
BEGIN:VEVENT
DTSTART;TZID=Europe/Madrid:20251115T190000
DTEND;TZID=Europe/Madrid:20251115T220000
DTSTAMP:20260424T053907
CREATED:20251105T193402Z
LAST-MODIFIED:20251105T193402Z
UID:3647-1763233200-1763244000@caminades.info
SUMMARY:Caminem per la Pau
DESCRIPTION:Descripció:\nMarxa per la Pau vespertina dissabte 15 de novembre organitzada per diversos grups senderistes i entitats de la comarca. Sortirem a les 19 h en punt des de la plaça de la Vila fins al Turó de Sant Pau. Serà una caminada curta i fàcil. A l’inici i al final es mantindrà un minut de silenci i a la cloenda es llegirà una petita declaració per la pau al món. Cal portar llanterna\, frontal o espelmes. Més informació: Lluís 620759463 \nBona caminada!! \n  \n\nPunt de trobada a les 19.00 h:\n \n  \n\nNota:\nTotes les nostres sortides són gratuïtes i obertes a tothom; podeu difondre al màxim aquesta informació\, però tots els participants han d’acceptar els riscos inherents a la participació en una Ruta col·lectiva com aquesta\, i que eximeixen als Organitzadors dels CAMINAIRES DE LA GIRADA i Guies de l’excursió (que no són professionals) de les responsabilitats derivades de qualsevol perjudici que patís per deficiències en les infraestructures viàries\, senders\, recorreguts i camins. Així mateix\, cadascú ha d’admetre la possibilitat de patir o causar un accident a un tercer aliè a l’excursió col·lectiva\, assumint personalment la responsabilitat íntegra derivada d’aquests accidents\, excloent als CAMINAIRES DE LA GIRADA i qualsevol persona física o jurídica vinculada a l’organització d’aquesta excursió de qualsevol responsabilitat derivada d’aquests.
URL:https://caminades.info/activitats/caminem-per-la-pau/
CATEGORIES:CG
ATTACH;FMTTYPE=image/jpeg:https://caminades.info/wp-content/uploads/SantPau-500.jpg
ORGANIZER;CN="Caminaires de la Girada":MAILTO:info@caminaires.cat
END:VEVENT
END:VCALENDAR