BEGIN:VCALENDAR
VERSION:2.0
PRODID:-//Caminades.info - ECPv6.15.20//NONSGML v1.0//EN
CALSCALE:GREGORIAN
METHOD:PUBLISH
X-ORIGINAL-URL:https://caminades.info
X-WR-CALDESC:Esdeveniments per Caminades.info
REFRESH-INTERVAL;VALUE=DURATION:PT1H
X-Robots-Tag:noindex
X-PUBLISHED-TTL:PT1H
BEGIN:VTIMEZONE
TZID:Europe/Madrid
BEGIN:DAYLIGHT
TZOFFSETFROM:+0100
TZOFFSETTO:+0200
TZNAME:CEST
DTSTART:20230326T010000
END:DAYLIGHT
BEGIN:STANDARD
TZOFFSETFROM:+0200
TZOFFSETTO:+0100
TZNAME:CET
DTSTART:20231029T010000
END:STANDARD
BEGIN:DAYLIGHT
TZOFFSETFROM:+0100
TZOFFSETTO:+0200
TZNAME:CEST
DTSTART:20240331T010000
END:DAYLIGHT
BEGIN:STANDARD
TZOFFSETFROM:+0200
TZOFFSETTO:+0100
TZNAME:CET
DTSTART:20241027T010000
END:STANDARD
BEGIN:DAYLIGHT
TZOFFSETFROM:+0100
TZOFFSETTO:+0200
TZNAME:CEST
DTSTART:20250330T010000
END:DAYLIGHT
BEGIN:STANDARD
TZOFFSETFROM:+0200
TZOFFSETTO:+0100
TZNAME:CET
DTSTART:20251026T010000
END:STANDARD
END:VTIMEZONE
BEGIN:VEVENT
DTSTART;TZID=Europe/Madrid:20241117T090000
DTEND;TZID=Europe/Madrid:20241117T133000
DTSTAMP:20260425T022034
CREATED:20241112T121323Z
LAST-MODIFIED:20241112T165206Z
UID:2941-1731834000-1731850200@caminades.info
SUMMARY:Montferri (Alt Camp)\, amb visita guiada al Temple Modernista
DESCRIPTION:Descripció:\nAquest Diumenge (17 de novembre) farem una excursió gratuïta d’uns 9 kilòmetres amb vistes espectaculars a Montferri. El grau de dificultat és mitjà perquè hi ha una mitja hora de pujada (inclinació semblant al Papiol); també passarem per un corriol rocós. Com sempre\, quan parem a esmorzar farem un fàcil i breu exercici de meditació apte per a tothom. Finalitzarem amb una visita guiada (només per a nosaltres) al famós santuari\, joia del modernisme\, obra de Jujol (deixeble de Gaudí). Taxa de l’Ajuntament: 2 euros que cadascú haurà de pagar allà amb targeta de crèdit (o efectiu exacte). \nSortirem a les 9 h en punt en cotxes particulars (qui no en tingui podrà venir amb altres persones) a la fleca Rius de la rambla de la Girada (Vilafranca del Penedès). Estarem de tornada a quarts de dues. \nImprescindible inscripció prèvia a: info@caminaires.cat  \n  \n\nPunt de trobada a les 9.00 h:\n \n  \n\nNota:\nTotes les nostres sortides són gratuïtes i obertes a tothom; podeu difondre al màxim aquesta informació\, però tots els participants han d’acceptar els riscos inherents a la participació en una Ruta col·lectiva com aquesta\, i que eximeixen als Organitzadors dels CAMINAIRES DE LA GIRADA i Guies de l’excursió (que no són professionals) de les responsabilitats derivades de qualsevol perjudici que patís per deficiències en les infraestructures viàries\, senders\, recorreguts i camins. Així mateix\, cadascú ha d’admetre la possibilitat de patir o causar un accident a un tercer aliè a l’excursió col·lectiva\, assumint personalment la responsabilitat íntegra derivada d’aquests accidents\, excloent als CAMINAIRES DE LA GIRADA i qualsevol persona física o jurídica vinculada a l’organització d’aquesta excursió de qualsevol responsabilitat derivada d’aquests.
URL:https://caminades.info/activitats/montferri/
CATEGORIES:CG
ATTACH;FMTTYPE=image/jpeg:https://caminades.info/wp-content/uploads/SantuariMontferri.jpg
ORGANIZER;CN="Caminaires de la Girada":MAILTO:info@caminaires.cat
END:VEVENT
END:VCALENDAR