BEGIN:VCALENDAR
VERSION:2.0
PRODID:-//Caminades.info - ECPv6.15.20//NONSGML v1.0//EN
CALSCALE:GREGORIAN
METHOD:PUBLISH
X-WR-CALNAME:Caminades.info
X-ORIGINAL-URL:https://caminades.info
X-WR-CALDESC:Esdeveniments per Caminades.info
REFRESH-INTERVAL;VALUE=DURATION:PT1H
X-Robots-Tag:noindex
X-PUBLISHED-TTL:PT1H
BEGIN:VTIMEZONE
TZID:Europe/Madrid
BEGIN:DAYLIGHT
TZOFFSETFROM:+0100
TZOFFSETTO:+0200
TZNAME:CEST
DTSTART:20230326T010000
END:DAYLIGHT
BEGIN:STANDARD
TZOFFSETFROM:+0200
TZOFFSETTO:+0100
TZNAME:CET
DTSTART:20231029T010000
END:STANDARD
BEGIN:DAYLIGHT
TZOFFSETFROM:+0100
TZOFFSETTO:+0200
TZNAME:CEST
DTSTART:20240331T010000
END:DAYLIGHT
BEGIN:STANDARD
TZOFFSETFROM:+0200
TZOFFSETTO:+0100
TZNAME:CET
DTSTART:20241027T010000
END:STANDARD
BEGIN:DAYLIGHT
TZOFFSETFROM:+0100
TZOFFSETTO:+0200
TZNAME:CEST
DTSTART:20250330T010000
END:DAYLIGHT
BEGIN:STANDARD
TZOFFSETFROM:+0200
TZOFFSETTO:+0100
TZNAME:CET
DTSTART:20251026T010000
END:STANDARD
END:VTIMEZONE
BEGIN:VEVENT
DTSTART;TZID=Europe/Madrid:20241215T090000
DTEND;TZID=Europe/Madrid:20241215T140000
DTSTAMP:20260424T071926
CREATED:20241207T094825Z
LAST-MODIFIED:20241207T095230Z
UID:3036-1734253200-1734271200@caminades.info
SUMMARY:Serra de Baix\, Cal Quim\, els Hostalets\, Can Lleó\, Romaní\, Mas Rabell i les Valls
DESCRIPTION:Descripció:\nEl Martinet de Sant Martí Sarroca organitza el diumenge 15 de desembre una caminada del cicle ‘Tot passejant pel municipi’ que\, tot i que són sempre de caràcter gratuït\, aquest cop fa una proposta de col·laboració amb la Marató de 3 Cat amb un donatiu de 5 euros per finançar projectes sobre malalties respiratòries. Com de costum\, la sortida serà al parc de la Pau i recorrerà la Serra de Baix\, el bosc de cal Quim fins a Can Lleó\, on està previst esmorzar i s’hi podrà visitar la capella de la Mare de Déu del Roser\, del segle XVIII\, i el celler de la hisenda\, recentment recuperat… Tot seguit\, la caminada agafarà la direcció cap a la barriada de Romaní\, passant per Mas Rabell\, el Mas per travessar el fons de les Valls i tornar al parc de la Pau. \nAquí tens el cartell de la sortida en format PDF \n \n  \n\nPunt de trobada:\nParc de la Pau\, a les 9 del matí \n \n  \n\nNotes:\nCom sempre\, es recomana anar ben calçat\, portar aigua i l’esmorzar.
URL:https://caminades.info/activitats/serra-de-baix-cal-quim-els-hostalets-can-lleo-romani-mas-rabell-i-les-valls/
CATEGORIES:MAR
ATTACH;FMTTYPE=image/png:https://caminades.info/wp-content/uploads/Hisenda-de-Can-Lleo.png
ORGANIZER;CN="El Martinet":MAILTO:coordinacio@elmartinet.cat
END:VEVENT
END:VCALENDAR