BEGIN:VCALENDAR
VERSION:2.0
PRODID:-//Caminades.info - ECPv6.15.20//NONSGML v1.0//EN
CALSCALE:GREGORIAN
METHOD:PUBLISH
X-WR-CALNAME:Caminades.info
X-ORIGINAL-URL:https://caminades.info
X-WR-CALDESC:Esdeveniments per Caminades.info
REFRESH-INTERVAL;VALUE=DURATION:PT1H
X-Robots-Tag:noindex
X-PUBLISHED-TTL:PT1H
BEGIN:VTIMEZONE
TZID:Europe/Madrid
BEGIN:DAYLIGHT
TZOFFSETFROM:+0100
TZOFFSETTO:+0200
TZNAME:CEST
DTSTART:20250330T010000
END:DAYLIGHT
BEGIN:STANDARD
TZOFFSETFROM:+0200
TZOFFSETTO:+0100
TZNAME:CET
DTSTART:20251026T010000
END:STANDARD
BEGIN:DAYLIGHT
TZOFFSETFROM:+0100
TZOFFSETTO:+0200
TZNAME:CEST
DTSTART:20260329T010000
END:DAYLIGHT
BEGIN:STANDARD
TZOFFSETFROM:+0200
TZOFFSETTO:+0100
TZNAME:CET
DTSTART:20261025T010000
END:STANDARD
BEGIN:DAYLIGHT
TZOFFSETFROM:+0100
TZOFFSETTO:+0200
TZNAME:CEST
DTSTART:20270328T010000
END:DAYLIGHT
BEGIN:STANDARD
TZOFFSETFROM:+0200
TZOFFSETTO:+0100
TZNAME:CET
DTSTART:20271031T010000
END:STANDARD
END:VTIMEZONE
BEGIN:VEVENT
DTSTART;TZID=Europe/Madrid:20260322T080000
DTEND;TZID=Europe/Madrid:20260322T140000
DTSTAMP:20260425T142459
CREATED:20251215T181605Z
LAST-MODIFIED:20260309T101054Z
UID:3755-1774166400-1774188000@caminades.info
SUMMARY:L’antic terme de l’Albà (Aiguamúrcia)
DESCRIPTION:  \n\nDescripció:\nL’antic terme de l’Albà és un territori històric situat a la comarca tarragonina de l’Alt Camp\, el qual actualment forma part del municipi d’Aiguamúrcia. Aquest antic terme municipal va ser independent fins a mitjans del segle XIX. El terme és conegut pel seu caràcter rural amb un gran nombre de masies i llogarets que el conformen. L’Albà Vell és el nucli originari\, presidit per les restes del castell de l’Albà i l’antiga església romànica de Santa Maria\, situats en un turó amb vistes estratègiques vers els seus voltants. Les restes del castell de l’Albà del segle X estan protegides com a Bé Cultural d’Interès Local. \nLa nostra caminada partirà de l’Albà Nou\, a tocar de la nova església de Santa Maria enllestida l’any 1889\, un petit nucli de cases habitades com els també llogarets de Masbarrat i les Destres\, situat en una plana elevada des d’on es domina bona part del Camp de Tarragona\, voltat d’una àmplia zona agrícola i també d’una gran massa forestal. El nostre itinerari circular passa per uns grans masos imponents\, malauradament ara la majoria en estat ruïnós: Mas d’en Palau\, la Vilella\, Cal Bernat\, Cal Fam o Can Güell\, són algunes d’aquestes cases plenes de vida en el passat\, testimonis muts en el present. \nEl silenci del paratge\, la gran boscúria que l’envolta i les esplèndides vistes que es veuen\, són alguns dels atractius d’aquesta ruta que et proposem. \nNo t’ho perdis!! \n  \n \n  \n\nFotografies de la preparació:\n \n  \n\nPunt de trobada a les 8.00 h:\n \n  \n\nPunt d’inici de la caminada a les 8:45 h:\n\n  \n\nInformació Addicional:\n\nOrganitza: Grup Anem a Caminar (Els Monjos)\nGuiada per Toni Inglada\nLloc de trobada: Aparcament del mercat dels Monjos\nHora: 8.00 h\nHora prevista de tornada: 14.00 h\nTransport: Cotxes particulars\nDificultat: Mitjana/fàcil\nCaminada circular gratuïta i oberta a tothom.\nCal portar: Aigua\, esmorzar i calçat adequant; i es recomana portar bastons.\nAgrairem no portar gossos en les nostres caminades.\nCalendari d’activitats pel 2026\nEnllaços per afegir-vos als grups de WhatsApp \n\n     (Grup obert a les sortides): https://chat.whatsapp.com/I67zMs7Y5k5DwyW2vVTiTl\n     (Grup sempre tancat): https://chat.whatsapp.com/DLaaNLAW731CAngTfoPNKW\n     Cal aprovació posterior\, per la qual cosa l’entrada no serà immediata\, però entrareu.\n     Els dos grups\, reben la mateixa informació per part dels administradors.
URL:https://caminades.info/activitats/lantic-terme-de-lalba-aiguamurcia/
CATEGORIES:GAC
ATTACH;FMTTYPE=image/jpeg:https://caminades.info/wp-content/uploads/Santa-Maria-de-lAlba.jpg
END:VEVENT
END:VCALENDAR