BEGIN:VCALENDAR
VERSION:2.0
PRODID:-//Caminades.info - ECPv6.15.20//NONSGML v1.0//EN
CALSCALE:GREGORIAN
METHOD:PUBLISH
X-WR-CALNAME:Caminades.info
X-ORIGINAL-URL:https://caminades.info
X-WR-CALDESC:Esdeveniments per Caminades.info
REFRESH-INTERVAL;VALUE=DURATION:PT1H
X-Robots-Tag:noindex
X-PUBLISHED-TTL:PT1H
BEGIN:VTIMEZONE
TZID:Europe/Madrid
BEGIN:DAYLIGHT
TZOFFSETFROM:+0100
TZOFFSETTO:+0200
TZNAME:CEST
DTSTART:20250330T010000
END:DAYLIGHT
BEGIN:STANDARD
TZOFFSETFROM:+0200
TZOFFSETTO:+0100
TZNAME:CET
DTSTART:20251026T010000
END:STANDARD
BEGIN:DAYLIGHT
TZOFFSETFROM:+0100
TZOFFSETTO:+0200
TZNAME:CEST
DTSTART:20260329T010000
END:DAYLIGHT
BEGIN:STANDARD
TZOFFSETFROM:+0200
TZOFFSETTO:+0100
TZNAME:CET
DTSTART:20261025T010000
END:STANDARD
BEGIN:DAYLIGHT
TZOFFSETFROM:+0100
TZOFFSETTO:+0200
TZNAME:CEST
DTSTART:20270328T010000
END:DAYLIGHT
BEGIN:STANDARD
TZOFFSETFROM:+0200
TZOFFSETTO:+0100
TZNAME:CET
DTSTART:20271031T010000
END:STANDARD
END:VTIMEZONE
BEGIN:VEVENT
DTSTART;TZID=Europe/Madrid:20260426T083000
DTEND;TZID=Europe/Madrid:20260426T140000
DTSTAMP:20260422T104229
CREATED:20260421T121826Z
LAST-MODIFIED:20260421T121826Z
UID:3931-1777192200-1777212000@caminades.info
SUMMARY:Caminada al Coll de la Creu de Sapera i el Pi de les Mentides (20 km)
DESCRIPTION:Descripció:\nCaminada al Coll de la Creu de Sapera i el Pi de les Mentides.Recorregut d’aproximadament 20 km.L’hora de tornada serà abans de les 2 del migdia. \n  \nAquí tens el cartell de la sortida en format PDF \n \n  \n\nPunt de trobada:\nParc de la Pau\, a les 8.30 h. \n \n\nNotes:\n\nCom sempre\, la recomanació és de portar un bon calçat\, aigua i esmorzar.\nL’arribada està prevista per abans de les dues del migdia.\n\n  \n\nAVÍS:\nLes caminades organitzades per Tot Martinejant són gratuïtes i obertes a tothom\, però els participants han d’acceptar els riscos de participar en una ruta col·lectiva com aquesta i eximir els organitzadors i guies de l’excursió (que no són professionals) de les responsabilitats de qualsevol perjudici que puguin patir a causa de l’estat dels camins o dels senders. Així mateix\, cadascú ha d’admetre la possibilitat de patir o causar un accident a un tercer aliè a l’excursió\, assumint personalment la responsabilitat íntegra derivada d’aquests accidents\, excloent qualsevol persona física o jurídica vinculada a l’organització de l’excursió de qualsevol responsabilitat que se’n pugui derivar per aquesta causa.
URL:https://caminades.info/activitats/caminada-al-coll-de-la-creu-de-sapera-i-el-pi-de-les-mentides-20-km/
CATEGORIES:TOTM
ATTACH;FMTTYPE=image/jpeg:https://caminades.info/wp-content/uploads/TOT-MARTINEJANT-abril2026.jpg
END:VEVENT
END:VCALENDAR