BEGIN:VCALENDAR
VERSION:2.0
PRODID:-//Caminades.info - ECPv6.15.20//NONSGML v1.0//EN
CALSCALE:GREGORIAN
METHOD:PUBLISH
X-WR-CALNAME:Caminades.info
X-ORIGINAL-URL:https://caminades.info
X-WR-CALDESC:Esdeveniments per Caminades.info
REFRESH-INTERVAL;VALUE=DURATION:PT1H
X-Robots-Tag:noindex
X-PUBLISHED-TTL:PT1H
BEGIN:VTIMEZONE
TZID:Europe/Madrid
BEGIN:DAYLIGHT
TZOFFSETFROM:+0100
TZOFFSETTO:+0200
TZNAME:CEST
DTSTART:20240331T010000
END:DAYLIGHT
BEGIN:STANDARD
TZOFFSETFROM:+0200
TZOFFSETTO:+0100
TZNAME:CET
DTSTART:20241027T010000
END:STANDARD
BEGIN:DAYLIGHT
TZOFFSETFROM:+0100
TZOFFSETTO:+0200
TZNAME:CEST
DTSTART:20250330T010000
END:DAYLIGHT
BEGIN:STANDARD
TZOFFSETFROM:+0200
TZOFFSETTO:+0100
TZNAME:CET
DTSTART:20251026T010000
END:STANDARD
BEGIN:DAYLIGHT
TZOFFSETFROM:+0100
TZOFFSETTO:+0200
TZNAME:CEST
DTSTART:20260329T010000
END:DAYLIGHT
BEGIN:STANDARD
TZOFFSETFROM:+0200
TZOFFSETTO:+0100
TZNAME:CET
DTSTART:20261025T010000
END:STANDARD
END:VTIMEZONE
BEGIN:VEVENT
DTSTART;TZID=Europe/Madrid:20250427T084500
DTEND;TZID=Europe/Madrid:20250427T140000
DTSTAMP:20260425T191413
CREATED:20250422T204845Z
LAST-MODIFIED:20250422T204845Z
UID:3277-1745743500-1745762400@caminades.info
SUMMARY:Caminada a les Dous i entorn  de la Serra Llarga
DESCRIPTION:Descripció:\nCaminada d’uns 17\,5 quilòmetres\, més llarga i costeruda de l’habitual i amb un cert desnivell. La ruta va de Sant Martí a les fonts de les Dous de Torrelles de Foix\, des d’on continua amb una forta pujada que comença a la cota 300 m fins al turó Clapí Vell (704 m) i el pic de l’Àliga (701 m) i la cruïlla del camí de Marmellar. Continua a la banda NE de la Serra Llarga en direcció a Can Barceló\, Can Grau i Sant Joan de Lledó\, abans de tornar a Sant Martí. \nAquí tens el cartell de la sortida en format PDF \n \n  \n\nPunt de trobada:\nSortida des de la carretera del Castell de Sant Martí Sarroca\, al pont sobre el Torrent de les Anguiles\, a les 3/4 de 9 del matí. \n \n  \n\nNotes:\nCom sempre\, es recomana anar ben calçat\, portar aigua i l’esmorzar.
URL:https://caminades.info/activitats/caminada-a-les-dous-i-entorn-de-la-serra-llarga/
CATEGORIES:TOTM
ATTACH;FMTTYPE=image/jpeg:https://caminades.info/wp-content/uploads/lesDous.jpg
END:VEVENT
END:VCALENDAR