BEGIN:VCALENDAR
VERSION:2.0
PRODID:-//Caminades.info - ECPv6.15.20//NONSGML v1.0//EN
CALSCALE:GREGORIAN
METHOD:PUBLISH
X-ORIGINAL-URL:https://caminades.info
X-WR-CALDESC:Esdeveniments per Caminades.info
REFRESH-INTERVAL;VALUE=DURATION:PT1H
X-Robots-Tag:noindex
X-PUBLISHED-TTL:PT1H
BEGIN:VTIMEZONE
TZID:Europe/Madrid
BEGIN:DAYLIGHT
TZOFFSETFROM:+0100
TZOFFSETTO:+0200
TZNAME:CEST
DTSTART:20250330T010000
END:DAYLIGHT
BEGIN:STANDARD
TZOFFSETFROM:+0200
TZOFFSETTO:+0100
TZNAME:CET
DTSTART:20251026T010000
END:STANDARD
BEGIN:DAYLIGHT
TZOFFSETFROM:+0100
TZOFFSETTO:+0200
TZNAME:CEST
DTSTART:20260329T010000
END:DAYLIGHT
BEGIN:STANDARD
TZOFFSETFROM:+0200
TZOFFSETTO:+0100
TZNAME:CET
DTSTART:20261025T010000
END:STANDARD
BEGIN:DAYLIGHT
TZOFFSETFROM:+0100
TZOFFSETTO:+0200
TZNAME:CEST
DTSTART:20270328T010000
END:DAYLIGHT
BEGIN:STANDARD
TZOFFSETFROM:+0200
TZOFFSETTO:+0100
TZNAME:CET
DTSTART:20271031T010000
END:STANDARD
END:VTIMEZONE
BEGIN:VEVENT
DTSTART;TZID=Europe/Madrid:20260111T073000
DTEND;TZID=Europe/Madrid:20260111T180000
DTSTAMP:20260421T012405
CREATED:20260101T110040Z
LAST-MODIFIED:20260101T110251Z
UID:3759-1768116600-1768154400@caminades.info
SUMMARY:Ermites de Montblanc (Conca de Barberà)
DESCRIPTION:Descripció:\nAquest mes per començar l’any i cremar els torrons anirem fins al poble de Montblanc\, a la comarca de la Conca de Barberà. Allí farem una ruta circular per veure diferents ermites tant de Montblanc com de l’Espluga de Francolí. Passarem per la de Sant Miquel\, la Santíssima Trinitat i l’ermita de Sant Joan de la Muntanya. Recorrerem trams de diferents GR com el GR 171 i el GR 175. \nMés informació en el PDF \n\n  \n\nPunt de trobada a les 7.30 h:\nEstació de busos de Vilafranca \n \n  \n\nNotes:\n\nOrganitzat per: GECASP (Sant Pau d’Ordal)\nTransport: Bus\nSortida de dificultat mitjana.\nPer participar en aquesta activitat cal inscripció. Informació en el PDF.\nPlaces limitades. \nData límit:  08/01/2026\nL’hora de finalització\, és orientativa.
URL:https://caminades.info/activitats/ermites-de-montblanc-conca-de-barbera/
CATEGORIES:GECASP
ATTACH;FMTTYPE=image/jpeg:https://caminades.info/wp-content/uploads/Gener26_Ermites-de-Montblanc-Image1.jpg
END:VEVENT
END:VCALENDAR