BEGIN:VCALENDAR
VERSION:2.0
PRODID:-//Caminades.info - ECPv6.15.20//NONSGML v1.0//EN
CALSCALE:GREGORIAN
METHOD:PUBLISH
X-WR-CALNAME:Caminades.info
X-ORIGINAL-URL:https://caminades.info
X-WR-CALDESC:Esdeveniments per Caminades.info
REFRESH-INTERVAL;VALUE=DURATION:PT1H
X-Robots-Tag:noindex
X-PUBLISHED-TTL:PT1H
BEGIN:VTIMEZONE
TZID:Europe/Madrid
BEGIN:DAYLIGHT
TZOFFSETFROM:+0100
TZOFFSETTO:+0200
TZNAME:CEST
DTSTART:20240331T010000
END:DAYLIGHT
BEGIN:STANDARD
TZOFFSETFROM:+0200
TZOFFSETTO:+0100
TZNAME:CET
DTSTART:20241027T010000
END:STANDARD
BEGIN:DAYLIGHT
TZOFFSETFROM:+0100
TZOFFSETTO:+0200
TZNAME:CEST
DTSTART:20250330T010000
END:DAYLIGHT
BEGIN:STANDARD
TZOFFSETFROM:+0200
TZOFFSETTO:+0100
TZNAME:CET
DTSTART:20251026T010000
END:STANDARD
BEGIN:DAYLIGHT
TZOFFSETFROM:+0100
TZOFFSETTO:+0200
TZNAME:CEST
DTSTART:20260329T010000
END:DAYLIGHT
BEGIN:STANDARD
TZOFFSETFROM:+0200
TZOFFSETTO:+0100
TZNAME:CET
DTSTART:20261025T010000
END:STANDARD
END:VTIMEZONE
BEGIN:VEVENT
DTSTART;TZID=Europe/Madrid:20251214T070000
DTEND;TZID=Europe/Madrid:20251214T180000
DTSTAMP:20260421T024559
CREATED:20251123T221411Z
LAST-MODIFIED:20251123T221411Z
UID:3689-1765695600-1765735200@caminades.info
SUMMARY:Puig Rodó (Moianès)
DESCRIPTION:Descripció:\nAquesta vegada anirem a posar el pessebre al cim del Puig Rodó\, una muntanya de 1056 m considerada per alguns el cim comarcal del Moianès. Farem una ruta que comença al poble de Moià\, passa pel Puig Rodó i per un Dolmen del mateix nom i acaba al poble de l’Estany\, on hi ha el Monestir romànic de Santa Maria de l’Estany.Hi ha la possibilitat de fer un Pla B. \nMés informació en el PDF \n\n  \n\nPunt de trobada a les 7.00 h:\nEstació de busos de Vilafranca \n \n  \n\nNotes:\n\nOrganitzat per: GECASP (Sant Pau d’Ordal)\nTransport: Bus\nSortida de dificultat mitjana.\nPer participar en aquesta activitat cal inscripció. Informació en el PDF.\nPlaces limitades. \nData límit:  10/12/2025\nL’hora de finalització\, és orientativa.
URL:https://caminades.info/activitats/puig-rodo-moianes/
CATEGORIES:GECASP
ATTACH;FMTTYPE=image/jpeg:https://caminades.info/wp-content/uploads/Puig-Rodo-Image2.jpg
END:VEVENT
END:VCALENDAR