BEGIN:VCALENDAR
VERSION:2.0
PRODID:-//Caminades.info - ECPv6.15.20//NONSGML v1.0//EN
CALSCALE:GREGORIAN
METHOD:PUBLISH
X-WR-CALNAME:Caminades.info
X-ORIGINAL-URL:https://caminades.info
X-WR-CALDESC:Esdeveniments per Caminades.info
REFRESH-INTERVAL;VALUE=DURATION:PT1H
X-Robots-Tag:noindex
X-PUBLISHED-TTL:PT1H
BEGIN:VTIMEZONE
TZID:Europe/Madrid
BEGIN:DAYLIGHT
TZOFFSETFROM:+0100
TZOFFSETTO:+0200
TZNAME:CEST
DTSTART:20250330T010000
END:DAYLIGHT
BEGIN:STANDARD
TZOFFSETFROM:+0200
TZOFFSETTO:+0100
TZNAME:CET
DTSTART:20251026T010000
END:STANDARD
BEGIN:DAYLIGHT
TZOFFSETFROM:+0100
TZOFFSETTO:+0200
TZNAME:CEST
DTSTART:20260329T010000
END:DAYLIGHT
BEGIN:STANDARD
TZOFFSETFROM:+0200
TZOFFSETTO:+0100
TZNAME:CET
DTSTART:20261025T010000
END:STANDARD
BEGIN:DAYLIGHT
TZOFFSETFROM:+0100
TZOFFSETTO:+0200
TZNAME:CEST
DTSTART:20270328T010000
END:DAYLIGHT
BEGIN:STANDARD
TZOFFSETFROM:+0200
TZOFFSETTO:+0100
TZNAME:CET
DTSTART:20271031T010000
END:STANDARD
END:VTIMEZONE
BEGIN:VEVENT
DTSTART;TZID=Europe/Madrid:20260111T081500
DTEND;TZID=Europe/Madrid:20260111T140000
DTSTAMP:20260421T015653
CREATED:20260101T113520Z
LAST-MODIFIED:20260101T113652Z
UID:3763-1768119300-1768140000@caminades.info
SUMMARY:Caminada popular per pair torrons – 2026
DESCRIPTION:Descripció:\nTradicional caminada d’inici d’any\, de nivell Baix apte per tothom on el Centre posa l’esmorzar i la beguda.Enguany l’excursió comença i acaba al poble de Torrebusqueta\, en el transcurs de la caminada assolirem el cim de Puig Castellar\, extens mirador a 360 graus. Continuarem de baixada cap a la casa d’Ancosa\, antiga granja dels monjos de Santes Creus\, continuarem la baixada fins a la masia de Valldecerves amb l’ermita romànica de Sant Andreu. Seguirem en lleugera pujada fins al coll del Corral. I ja només ens quedarà la baixada al poble de Torrebusqueta. \nMés informació a la web del CEP \n  \n\nPunt de trobada a les 8.15 h:\nDavant la FECA \n\nPunt d’inici de la caminada a les 9.00 h:\nTorrebusqueta \n \n\nInformació Addicional:\n\nOrganitza: Centre Excursionista del Penedès i Ajuntament l’Olèrdola\nPunt de trobada: Davant la FECA\nHora sortida: 8.15 h\nDificultat: fàcil\nPer participar-hi cal inscripció\nCal portar calçat de muntanya i aigua.
URL:https://caminades.info/activitats/caminada-popular-per-pair-torrons-2026/
CATEGORIES:CEP
ATTACH;FMTTYPE=image/jpeg:https://caminades.info/wp-content/uploads/Puig-Castellar-Ancosa-scaled-1-2048x1536-1.jpg
END:VEVENT
END:VCALENDAR