BEGIN:VCALENDAR
VERSION:2.0
PRODID:-//Caminades.info - ECPv6.15.20//NONSGML v1.0//EN
CALSCALE:GREGORIAN
METHOD:PUBLISH
X-ORIGINAL-URL:https://caminades.info
X-WR-CALDESC:Esdeveniments per Caminades.info
REFRESH-INTERVAL;VALUE=DURATION:PT1H
X-Robots-Tag:noindex
X-PUBLISHED-TTL:PT1H
BEGIN:VTIMEZONE
TZID:Europe/Madrid
BEGIN:DAYLIGHT
TZOFFSETFROM:+0100
TZOFFSETTO:+0200
TZNAME:CEST
DTSTART:20240331T010000
END:DAYLIGHT
BEGIN:STANDARD
TZOFFSETFROM:+0200
TZOFFSETTO:+0100
TZNAME:CET
DTSTART:20241027T010000
END:STANDARD
BEGIN:DAYLIGHT
TZOFFSETFROM:+0100
TZOFFSETTO:+0200
TZNAME:CEST
DTSTART:20250330T010000
END:DAYLIGHT
BEGIN:STANDARD
TZOFFSETFROM:+0200
TZOFFSETTO:+0100
TZNAME:CET
DTSTART:20251026T010000
END:STANDARD
BEGIN:DAYLIGHT
TZOFFSETFROM:+0100
TZOFFSETTO:+0200
TZNAME:CEST
DTSTART:20260329T010000
END:DAYLIGHT
BEGIN:STANDARD
TZOFFSETFROM:+0200
TZOFFSETTO:+0100
TZNAME:CET
DTSTART:20261025T010000
END:STANDARD
END:VTIMEZONE
BEGIN:VEVENT
DTSTART;TZID=Europe/Madrid:20251122T093000
DTEND;TZID=Europe/Madrid:20251122T130000
DTSTAMP:20260421T003412
CREATED:20250913T114536Z
LAST-MODIFIED:20251124T202754Z
UID:3473-1763803800-1763816400@caminades.info
SUMMARY:Setmana de la Pedra Seca - Barraques i altres elements de pedra seca restaurats a Olèrdola
DESCRIPTION:Descripció:\nVisita comentada de les Barraques restaurades pel Grup de Pedra seca del Centre Excursionista del Penedès. \nEs visitaran i comentaran la restauració de les Barraques de Pedra seca d’Olèrdola i altres elements Patrimonials dintre del sorprenent Parc d’Olèrdola. \nEn la visita es podrà contemplar des de la talaia del Conjunt Arqueològic de Sant Miquel d’Olèrdola\, una gran part del Penedès\, aquest lloc havia estat habitat pels Ibers i després pels Romans\, també visitarem el sorprenent Pla dels Albats\, indret únic a tot Catalunya. \nDurada aproximada de 3 hores\, en finalitzar l’Ajuntament d’Olèrdola prepararà un petit refrigeri amb productes del Penedès. \nCal inscripció prèvia per participar en l’activitat. \n  \nMés informació a la web del CEP \n  \n\nFotografia de grup:\nClic en la imatge per ampliar \n  \n\nImatges de la sortida:\n \n \n  \n\nPunt de trobada a les 9.30 h:\nConjunt Arqueològic de Sant Miquel d’Olèrdola \n \n  \n\nInformació Addicional:\n\nOrganitza: Centre Excursionista del Penedès i Ajuntament l’Olèrdola\nPunt de trobada: Conjunt Arqueològic de Sant Miquel d’Olèrdola\nHora sortida: 9.30 h\nDificultat: fàcil\nPer participar-hi cal inscripció\nCal portar calçat de muntanya\, aigua i alguna cosa per menjar.\nAgenda d’activitats setmana de la pedra seca
URL:https://caminades.info/activitats/setmana-de-la-pedra-seca-barraques-i-altres-elements-de-pedra-seca-restaurats-a-olerdola/
CATEGORIES:CEP
ATTACH;FMTTYPE=image/jpeg:https://caminades.info/wp-content/uploads/Barraca-500p.jpg
END:VEVENT
END:VCALENDAR