BEGIN:VCALENDAR
VERSION:2.0
PRODID:-//Caminades.info - ECPv6.15.20//NONSGML v1.0//EN
CALSCALE:GREGORIAN
METHOD:PUBLISH
X-WR-CALNAME:Caminades.info
X-ORIGINAL-URL:https://caminades.info
X-WR-CALDESC:Esdeveniments per Caminades.info
REFRESH-INTERVAL;VALUE=DURATION:PT1H
X-Robots-Tag:noindex
X-PUBLISHED-TTL:PT1H
BEGIN:VTIMEZONE
TZID:Europe/Madrid
BEGIN:DAYLIGHT
TZOFFSETFROM:+0100
TZOFFSETTO:+0200
TZNAME:CEST
DTSTART:20240331T010000
END:DAYLIGHT
BEGIN:STANDARD
TZOFFSETFROM:+0200
TZOFFSETTO:+0100
TZNAME:CET
DTSTART:20241027T010000
END:STANDARD
BEGIN:DAYLIGHT
TZOFFSETFROM:+0100
TZOFFSETTO:+0200
TZNAME:CEST
DTSTART:20250330T010000
END:DAYLIGHT
BEGIN:STANDARD
TZOFFSETFROM:+0200
TZOFFSETTO:+0100
TZNAME:CET
DTSTART:20251026T010000
END:STANDARD
BEGIN:DAYLIGHT
TZOFFSETFROM:+0100
TZOFFSETTO:+0200
TZNAME:CEST
DTSTART:20260329T010000
END:DAYLIGHT
BEGIN:STANDARD
TZOFFSETFROM:+0200
TZOFFSETTO:+0100
TZNAME:CET
DTSTART:20261025T010000
END:STANDARD
END:VTIMEZONE
BEGIN:VEVENT
DTSTART;TZID=Europe/Madrid:20251012T080000
DTEND;TZID=Europe/Madrid:20251012T120000
DTSTAMP:20260421T093526
CREATED:20250930T134350Z
LAST-MODIFIED:20251001T091037Z
UID:3561-1760256000-1760270400@caminades.info
SUMMARY:Caminada popular de Vilafranca del Penedès a la Granada
DESCRIPTION:Descripció:\nInauguració\, durant la Festa del Most 2025 de la Granada\, del nou tram enllaç senyalitzat del Camí de Sant Jaume de Catalunya\, entre Vilafranca del Penedès i la Granada. \nTrobareu tota la informació en el cartell. \nClic a la imatge per ampliar \n  \n\nPunt de trobada a les 8.00 h:\nBasílica de Santa Maria (Vilafranca) \n \n  \n\nInformació Addicional:\n\nOrganitza: Centre Excursionista del Penedès i Jove Agrupació Dionysos\nPunt de trobada: Basílica de Santa Maria (Vilafranca)\nHora sortida: 8.00 h\nDificultat: fàcil\nActivitat guiada i gratuïta\nPels que ho desitgen\, hi haurà tornada a peu a Vilafranca per recorregut diferent de l’anada.
URL:https://caminades.info/activitats/vilafranca-lagranada/
CATEGORIES:CEP
ATTACH;FMTTYPE=image/jpeg:https://caminades.info/wp-content/uploads/251012-caminada-Vilafranca-La-Granada.jpg
END:VEVENT
BEGIN:VEVENT
DTSTART;TZID=Europe/Madrid:20251018T070000
DTEND;TZID=Europe/Madrid:20251018T200000
DTSTAMP:20260421T093526
CREATED:20250929T211919Z
LAST-MODIFIED:20250929T212244Z
UID:3551-1760770800-1760817600@caminades.info
SUMMARY:Montserrat a peu (Romeria de Vilafranca)
DESCRIPTION:Descripció: \nEl proper dissabte dia 18 d’octubre de 2025\, el Centre Excursionista del Penedès\, coincident amb la romeria de Vilafranca\, organitza la tradicional anada a peu a Montserrat. \nComençarem la caminada a la creu de la Pelegrina situada a l’inici de la carretera de les Cabanyes a l’hora de costum\, les 7 del matí en punt. \nAquesta caminada coincideix en part\, l’antic Camí Romeu que seguien els devots i fidels\, en el seu pelegrinatge a peu a la muntanya santa\, és per aquest motiu\, que en arribar al poble de Piera es passa per un carrer anomenat carrer del “Camí Romeu”. \nL’excursió té 38 km aprox. i un desnivell positiu acumulat de 1.150 metres\, que s’acostuma a fer en unes 10 hores efectives (sense comptar les parades). \n  \nMés informació a la web del CEP \n  \n\nPunt de trobada a les 7.00 h:\nA la Creu de la Pelegrina \n \n\nInformació Addicional:\n\nOrganitza: Centre Excursionista del Penedès\nLa inscripció és oberta a tothom\, només cal apuntar-se via web o bé presencialment a la secretaria del CEP.\nEnguany com a novetat el retorn serà en autocar.\nL’hora prevista d’arribada a Montserrat serà a les 7 de la tarda\, aproximadament.\nLloc de sortida: Creu de la Pelegrina\nInici dissabte\, 18 d’octubre de 2025\nHora inici 7:00 matí puntualment\nCalçat lleuger i còmode tipus vambes\, roba impermeable per en cas de pluja i d’abric\, esmorzar i dinar de motxilla. També quelcom per anar picant\, cantimplora amb aigua.\nTambé és aconsellable portar llanterna per la primera hora del matí.
URL:https://caminades.info/activitats/montserrat-a-peu-romeria-de-vilafranca/
CATEGORIES:CEP
ATTACH;FMTTYPE=image/jpeg:https://caminades.info/wp-content/uploads/Montserrat-1.jpg
END:VEVENT
BEGIN:VEVENT
DTSTART;TZID=Europe/Madrid:20251025T063000
DTEND;TZID=Europe/Madrid:20251025T180000
DTSTAMP:20260421T093526
CREATED:20250929T205957Z
LAST-MODIFIED:20250930T114458Z
UID:3547-1761373800-1761415200@caminades.info
SUMMARY:Turó de Tagamanent (Vallès Oriental)
DESCRIPTION:Descripció: \nPARCS NATURALS DE CATALUNYA – MONTSENY A LA TARDOR \nPer seguir amb el nou cicle d’excursions el lloc triat ha estat cim del Tagamanent\, però mirant de fugir del camí tradicional hi pujarem pel Sot del Purgatori. \nEs tracta d’una bona alternativa al camí fàcil i excessivament freqüentat que des d’Aiguafreda puja fins al Tagamanent. Ara bé\, és molt pendent i ens farà suar una estona. De tota manera\, a la baixada tornarem pel GR\, encara que estigui massificat. Avui dia sorprèn que al bell mig del Purgatori hi havia hagut una casa i que a les rodalies n’hi havia hagut d’altres. \nEl Parc Natural del Montseny\, declarat Reserva de la Biosfera per la UNESCO\, és un massís muntanyós de la Serralada Prelitoral Catalana que destaca per la seva extraordinària biodiversitat. S’hi troben representats paisatges típics dels tres grans bioclimes europeus (mediterrani\, eurosiberià i boreoalpí)\, i això permet una transició fascinant des d’alzinars fins a fagedes i avetoses. És una àrea de gran valor ecològic\, cultural i paisatgístic. \nLlocs de pas:  \nAiguafreda\, 400 m – El Purgatori\, 650 m – Collet del Passarell\, 1050 m – L’Agustí\, 1045 m – El Bellver 1020 m – Collet de St. Martí\, 990 m – Cim del Tagamanent\, 1060 m\, amb l’església de Sta. Maria i restes del castell – Puig Agut\, 660 m – Aiguafreda. \n  \nNotes:  \n\nPodrem deixar el dinar al cotxe i acabada l’excursió dinarem de pícnic\, o on cadascú cregui convenient.\nLa pròxima excursió serà el dia 15 de novembre al Parc natural de la Garrotxa en plena tardor.\n\nMés informació a la web del CEP \n  \n\nPunt de trobada a les 6.30 h:\nA l’aparcament de l’Arxiu Comarcal \n \n\nInformació Addicional:\n\nOrganitza: Centre Excursionista del Penedès\nDesplaçament en: cotxes particulars\nPunt de trobada:  Aparcament de l’Arxiu Comarcal (Vilafranca)\nHora sortida: 6.30 h\nDificultat: Moderada (pel desnivell).\nPer participar-hi cal inscripció.\nCal portar aigua\, esmorzar i dinar.\nPodrem deixar el dinar al cotxe i acabada l’excursió dinarem de pícnic\, o on cadascú cregui convenient.\nLa pròxima excursió serà el dia 15 de novembre al Parc natural de la Garrotxa en plena tardor.
URL:https://caminades.info/activitats/turo-de-tagamanent-valles-oriental/
CATEGORIES:CEP
ATTACH;FMTTYPE=image/jpeg:https://caminades.info/wp-content/uploads/Tagamanent.jpg
END:VEVENT
END:VCALENDAR