BEGIN:VCALENDAR
VERSION:2.0
PRODID:-//Caminades.info - ECPv6.15.20//NONSGML v1.0//EN
CALSCALE:GREGORIAN
METHOD:PUBLISH
X-WR-CALNAME:Caminades.info
X-ORIGINAL-URL:https://caminades.info
X-WR-CALDESC:Esdeveniments per Caminades.info
REFRESH-INTERVAL;VALUE=DURATION:PT1H
X-Robots-Tag:noindex
X-PUBLISHED-TTL:PT1H
BEGIN:VTIMEZONE
TZID:Europe/Madrid
BEGIN:DAYLIGHT
TZOFFSETFROM:+0100
TZOFFSETTO:+0200
TZNAME:CEST
DTSTART:20240331T010000
END:DAYLIGHT
BEGIN:STANDARD
TZOFFSETFROM:+0200
TZOFFSETTO:+0100
TZNAME:CET
DTSTART:20241027T010000
END:STANDARD
BEGIN:DAYLIGHT
TZOFFSETFROM:+0100
TZOFFSETTO:+0200
TZNAME:CEST
DTSTART:20250330T010000
END:DAYLIGHT
BEGIN:STANDARD
TZOFFSETFROM:+0200
TZOFFSETTO:+0100
TZNAME:CET
DTSTART:20251026T010000
END:STANDARD
BEGIN:DAYLIGHT
TZOFFSETFROM:+0100
TZOFFSETTO:+0200
TZNAME:CEST
DTSTART:20260329T010000
END:DAYLIGHT
BEGIN:STANDARD
TZOFFSETFROM:+0200
TZOFFSETTO:+0100
TZNAME:CET
DTSTART:20261025T010000
END:STANDARD
END:VTIMEZONE
BEGIN:VEVENT
DTSTART;TZID=Europe/Madrid:20250920T063000
DTEND;TZID=Europe/Madrid:20250920T180000
DTSTAMP:20260422T000823
CREATED:20250911T100747Z
LAST-MODIFIED:20250911T101200Z
UID:3468-1758349800-1758391200@caminades.info
SUMMARY:Pic de la Dona i Bastiments (Ripollès)
DESCRIPTION:Descripció: \nPARCS NATURALS DE CATALUNYA – CAPÇALERES DEL TER I DEL FRESER \nAmb aquesta excursió pirinenca molt clàssica i popular\, encetem un nou cicle de sortides de muntanya escollides pels parcs naturals de Catalunya. Aquestes excursions pels diferents parcs ens donaran la possibilitat d’aprofundir en la coneixença d’uns territoris ja de per si rics en patrimoni\, naturalesa\, flora\, fauna. Anem doncs\, a gaudir-los  \nEl parc Natural de les capçaleres del Ter i del Freser\, fou declarat l’any 2015. Està situat al Pirineu oriental i té una superfície de 14.500 ha dins la comarca del Ripollès amb cims com el Bastiments assolint els 2874 m d’altitud. \nLlocs de pas:  \nAparcament de l’estació d’esquí i muntanya de Vallter 2.155 m – Portella de Mantet  2.412 m – Pic de la Portella 2.561 m – Pic de la Dona 2.702 m – Puig de l’Ombriaga 2.638 m – Coll de la Geganta 2.604 m – Bastiments 2.874 m – Coll de la Marrana 2.529 m – Vallter    \nNotes:  \n\nPodrem deixar el dinar al cotxe i acabada l’excursió dinarem de pícnic\, o on cadascú cregui convenient.\nLa pròxima excursió serà el dia 18 d’octubre al  Parc natural del Montseny a la tardor.\n\nMés informació a la web del CEP \n  \n\nPunt de trobada a les 6.30 h:\nA l’aparcament de l’Arxiu Comarcal \n \n\nInformació Addicional:\n\nOrganitza: Centre Excursionista del Penedès\nDesplaçament en: cotxes particulars\nPunt de trobada:  Aparcament de l’Arxiu Comarcal (Vilafranca)\nHora sortida: 6.30 h\nDificultat: Moderada (pel desnivell).\nPer participar-hi cal inscripció.\nCal portar aigua\, esmorzar i dinar.\nPodrem deixar el dinar al cotxe i acabada l’excursió dinarem de pícnic\, o on cadascú cregui convenient.\nLa pròxima excursió serà el dia 18 d’octubre al  Parc natural del Montseny a la tardor.
URL:https://caminades.info/activitats/pic-de-la-dona-i-bastiments-ripolles/
CATEGORIES:CEP
ATTACH;FMTTYPE=image/png:https://caminades.info/wp-content/uploads/Bastiments-500p.png
END:VEVENT
END:VCALENDAR