BEGIN:VCALENDAR
VERSION:2.0
PRODID:-//Caminades.info - ECPv6.15.20//NONSGML v1.0//EN
CALSCALE:GREGORIAN
METHOD:PUBLISH
X-ORIGINAL-URL:https://caminades.info
X-WR-CALDESC:Esdeveniments per Caminades.info
REFRESH-INTERVAL;VALUE=DURATION:PT1H
X-Robots-Tag:noindex
X-PUBLISHED-TTL:PT1H
BEGIN:VTIMEZONE
TZID:Europe/Madrid
BEGIN:DAYLIGHT
TZOFFSETFROM:+0100
TZOFFSETTO:+0200
TZNAME:CEST
DTSTART:20240331T010000
END:DAYLIGHT
BEGIN:STANDARD
TZOFFSETFROM:+0200
TZOFFSETTO:+0100
TZNAME:CET
DTSTART:20241027T010000
END:STANDARD
BEGIN:DAYLIGHT
TZOFFSETFROM:+0100
TZOFFSETTO:+0200
TZNAME:CEST
DTSTART:20250330T010000
END:DAYLIGHT
BEGIN:STANDARD
TZOFFSETFROM:+0200
TZOFFSETTO:+0100
TZNAME:CET
DTSTART:20251026T010000
END:STANDARD
BEGIN:DAYLIGHT
TZOFFSETFROM:+0100
TZOFFSETTO:+0200
TZNAME:CEST
DTSTART:20260329T010000
END:DAYLIGHT
BEGIN:STANDARD
TZOFFSETFROM:+0200
TZOFFSETTO:+0100
TZNAME:CET
DTSTART:20261025T010000
END:STANDARD
END:VTIMEZONE
BEGIN:VEVENT
DTSTART;TZID=Europe/Madrid:20250322T070000
DTEND;TZID=Europe/Madrid:20250322T180000
DTSTAMP:20260423T041247
CREATED:20250212T131430Z
LAST-MODIFIED:20250318T123520Z
UID:3153-1742626800-1742666400@caminades.info
SUMMARY:Torreta del Montsià (Montsià)\, 763 m Cicle Meridià Verd (15a sortida)
DESCRIPTION:El massís del Montsià és una serra muntanyosa d’uns 12 km de llarg que s’estén paral·lel a la línia de costa\, malgrat les seves formes arrodonides\, presenta un vessant abrupte que cau sobre el mar en el seu vessant llevantí. Fou considerada com a muntanya sagrada pels romans.Però la zona més visitada és sense dubte\, la famosa foradada rocosa del Montsià\, és com una finestra oberta al mar on es pot contemplar el meravellós paisatge del Delta de l’Ebre. \nMés informació a la web del CEP \n  \n\nPunt de trobada a les 7.00 h:\n  \n \n\nInformació Addicional:\n\nOrganitza: Centre Excursionista del Penedès\nDesplaçament en: cotxes particulars\nPunt de trobada:  Aparcament de l’Arxiu Comarcal (Vilafranca)\nHora sortida: 7.00 h\nDificultat: Mitjana/fàcil.\nPer participar-hi cal inscripció.\nCal portar aigua\, esmorzar i dinar.\nLa Pròxima excursió serà la Caminada de Rams el 13 d’abril
URL:https://caminades.info/activitats/torreta-del-montsia-montsia-763-m-cicle-meridia-verd-15a-sortida/
CATEGORIES:CEP
ATTACH;FMTTYPE=image/jpeg:https://caminades.info/wp-content/uploads/La_torreta-montsia1.jpg
END:VEVENT
END:VCALENDAR