BEGIN:VCALENDAR
VERSION:2.0
PRODID:-//Caminades.info - ECPv6.15.20//NONSGML v1.0//EN
CALSCALE:GREGORIAN
METHOD:PUBLISH
X-WR-CALNAME:Caminades.info
X-ORIGINAL-URL:https://caminades.info
X-WR-CALDESC:Esdeveniments per Caminades.info
REFRESH-INTERVAL;VALUE=DURATION:PT1H
X-Robots-Tag:noindex
X-PUBLISHED-TTL:PT1H
BEGIN:VTIMEZONE
TZID:Europe/Madrid
BEGIN:DAYLIGHT
TZOFFSETFROM:+0100
TZOFFSETTO:+0200
TZNAME:CEST
DTSTART:20240331T010000
END:DAYLIGHT
BEGIN:STANDARD
TZOFFSETFROM:+0200
TZOFFSETTO:+0100
TZNAME:CET
DTSTART:20241027T010000
END:STANDARD
BEGIN:DAYLIGHT
TZOFFSETFROM:+0100
TZOFFSETTO:+0200
TZNAME:CEST
DTSTART:20250330T010000
END:DAYLIGHT
BEGIN:STANDARD
TZOFFSETFROM:+0200
TZOFFSETTO:+0100
TZNAME:CET
DTSTART:20251026T010000
END:STANDARD
BEGIN:DAYLIGHT
TZOFFSETFROM:+0100
TZOFFSETTO:+0200
TZNAME:CEST
DTSTART:20260329T010000
END:DAYLIGHT
BEGIN:STANDARD
TZOFFSETFROM:+0200
TZOFFSETTO:+0100
TZNAME:CET
DTSTART:20261025T010000
END:STANDARD
END:VTIMEZONE
BEGIN:VEVENT
DTSTART;TZID=Europe/Madrid:20250208T080000
DTEND;TZID=Europe/Madrid:20250208T140000
DTSTAMP:20260423T053721
CREATED:20250128T105806Z
LAST-MODIFIED:20250129T203231Z
UID:3138-1739001600-1739023200@caminades.info
SUMMARY:Puig de Sant Antoni (Albinyana)\, 409 m Cicle Meridià Verd (14a sortida)
DESCRIPTION:Llocs de pas:\nBonastre – cementiri – Bassa del Pepito – Fondo del Pau – Masia d’Escansa – Masia del Perutxo – Ermita de Sant Antoni de Pàdua – Cova de l’Artús – Avenc del Joan – Avenc de les Arrels – Puig de Sant Antoni – Avenc de la Molada – Camí de Valls – La Figuerola – Les Casetes – Bonastre. \nLlocs d’interès\nBonastre. És un municipi de la comarca del Baix Penedès d’un miler d’habitants\, majoritàriament dedicats a l’agricultura de la vinya i oliveres. El nucli antic es compon de cases ben arrenglerades d’origen agrícola i d’algunes urbanitzacions que l’envolten. \n L’església parroquial de Santa Magdalena\, fou construïda entre els anys 1853 i 1850 d’estil barroc. \nErmita de Sant Antoni de Pàdua. L’origen de l’ermita es desconeix\, però la data que tenia gravada l’altar abans de la guerra de finals del segle XVIII. Cal esmentar que a l’últim ermità que encara vivia a l’ermita\, l’hi varen matar el fill de 38 anys a l’entrada dels nacionals\, por “rojo”\, des de llavors no hi ha hagut cap més ermità. \n El Cim de Sant Antoni. De 409 m d’altura és inclòs en el llistat de 100 cims de la FEEC. Des del cim es gaudeix de molt bona vista. \nLa cova de Vallmajor. És una gran cavitat coneguda de fa molts anys\, on l’any 1961 es varen descobrir unes pintures rupestres. Protegides com a patrimoni de la humanitat. Actualment\, són tancades al públic per atacs vandàlics que varen patir. \nBona caminada!! \nMés informació a la web del CEP \n  \n\nPunt de trobada a les 8.00 h:\n  \n \n\nInformació Addicional:\n\nOrganitza: Centre Excursionista del Penedès\nDesplaçament en: cotxes particulars\nPunt de trobada: aparcament de l’Arxiu Comarcal (Vilafranca).\nHora sortida: 8.00 h\nDificultat: Fàcil\nPer participar-hi cal inscripció\nCal portar aigua i esmorzar\nDinarem a casa\nLa Pròxima excursió del Meridià Verd serà el dia 22 de març al cim de la Mola de Colldejou.
URL:https://caminades.info/activitats/puig-de-sant-antoni-albinyana-409-m-cicle-meridia-verd-14a-sortida/
CATEGORIES:CEP
ATTACH;FMTTYPE=image/jpeg:https://caminades.info/wp-content/uploads/puig-de-sant-antoni.jpg
END:VEVENT
END:VCALENDAR