BEGIN:VCALENDAR
VERSION:2.0
PRODID:-//Caminades.info - ECPv6.15.20//NONSGML v1.0//EN
CALSCALE:GREGORIAN
METHOD:PUBLISH
X-WR-CALNAME:Caminades.info
X-ORIGINAL-URL:https://caminades.info
X-WR-CALDESC:Esdeveniments per Caminades.info
REFRESH-INTERVAL;VALUE=DURATION:PT1H
X-Robots-Tag:noindex
X-PUBLISHED-TTL:PT1H
BEGIN:VTIMEZONE
TZID:Europe/Madrid
BEGIN:DAYLIGHT
TZOFFSETFROM:+0100
TZOFFSETTO:+0200
TZNAME:CEST
DTSTART:20230326T010000
END:DAYLIGHT
BEGIN:STANDARD
TZOFFSETFROM:+0200
TZOFFSETTO:+0100
TZNAME:CET
DTSTART:20231029T010000
END:STANDARD
BEGIN:DAYLIGHT
TZOFFSETFROM:+0100
TZOFFSETTO:+0200
TZNAME:CEST
DTSTART:20240331T010000
END:DAYLIGHT
BEGIN:STANDARD
TZOFFSETFROM:+0200
TZOFFSETTO:+0100
TZNAME:CET
DTSTART:20241027T010000
END:STANDARD
BEGIN:DAYLIGHT
TZOFFSETFROM:+0100
TZOFFSETTO:+0200
TZNAME:CEST
DTSTART:20250330T010000
END:DAYLIGHT
BEGIN:STANDARD
TZOFFSETFROM:+0200
TZOFFSETTO:+0100
TZNAME:CET
DTSTART:20251026T010000
END:STANDARD
END:VTIMEZONE
BEGIN:VEVENT
DTSTART;TZID=Europe/Madrid:20241215T070000
DTEND;TZID=Europe/Madrid:20241215T180000
DTSTAMP:20260423T101855
CREATED:20241125T192509Z
LAST-MODIFIED:20241125T192509Z
UID:3012-1734246000-1734285600@caminades.info
SUMMARY:51è. Pessebre de muntanya al cim de la Picossa 499 m (Ribera d'Ebre)
DESCRIPTION:Descripció:\nEnguany per la caminada de la col·locació del pessebre\, hem escollit un cim ben conegut\, però poc visitat per excursionistes de casa nostra\, tot i ser un 100 cims essencial. \nComençarem l’excursió en el paratge de l’àrea de pícnic de les ermites de Santa Madrona i Sant Jeroni\, molt freqüentades els dies festius. \nD’entrada anirem per la carrerada de Sant Bartomeu i després ens enfilarem per la cresta de les Cabres\, fins a assolir el cim de la Penya Roja 430 m\, per continuar cap al cim de la Picossa 499 m 100 cims de la FEEC essencial. Des del cim on gaudirem d’una bona vista sobre la plana i el riu Ebre. Farem una desgrimpada i pujarem al cim de la punta l’Estel 489 m. Continuarem cap al coll de les Solanes i la gran cova de la Porca\, per baixar al racó dels avencs i la font del Tormo\, acabant a l’àrea de pícnic de Sant Jeroni. \nL’excursió és curta i fàcil\, apta per tothom\, tal com correspon amb la col·locació del pessebre\, i donar la possibilitat d’una participació que sigui popular. \nDalt del cim\, un any més col·locarem el pessebre\, obra d’en Joan Solis\, i cantarem les nadales tradicionals. \nFI DE L’EXCURSIÓ I BON NADAL!! \n  \n  \nDiumenge\,  15 de desembre de 2024. Hora de sortida a les 7 del matí\, amb autocar si fem una bona colla.Dificultat: Fàcil  Recorregut: 6 km aprox.Hores de camí: 3\,30 aprox.Desnivell: Positiu 332 metres  Aprox.Desnivell: Negatiu 332 metres Aprox. \n  \nCal fer  preinscripció\, per saber si fem autocar o anem amb cotxes particulars\, sigui presencialment\, o bé per la web per reservar plaça a l’autocar i al restaurant.   \n  \nMés informació a la web del CEP \n  \n\nPunt de trobada a les 7.00 h:\nEstació de bussos de Vilafranca (si es va en bus) \n \nAparcament de l’Arxiu Comarcal de l’Alt Penedès (si es va en cotxes particulars) \n \n\nInformació Addicional:\n\nOrganitza: Centre Excursionista del Penedès\nDesplaçament en: (dependrà de les inscripcions)\nPunt de trobada: Estació de bussos de Vilafranca si es va en bus o aparcament de l’Arxiu Municipal si en va en cotxes particulars.\nHora sortida: 7.00 h\nDificultat: fàcil\nPer participar-hi cal inscripció\nCal portar: esmorzar\, aigua i ganyips pel camí. Per dinar anirem al restaurant poliesportiu de Móra d’Ebre per celebrar les festes de Nadal.
URL:https://caminades.info/activitats/51e-pessebre-de-muntanya-al-cim-de-la-picossa-499-m-ribera-debre/
CATEGORIES:CEP
ATTACH;FMTTYPE=image/jpeg:https://caminades.info/wp-content/uploads/estrella-Picossa_500.jpg
END:VEVENT
END:VCALENDAR