BEGIN:VCALENDAR
VERSION:2.0
PRODID:-//Caminades.info - ECPv6.15.20//NONSGML v1.0//EN
CALSCALE:GREGORIAN
METHOD:PUBLISH
X-ORIGINAL-URL:https://caminades.info
X-WR-CALDESC:Esdeveniments per Caminades.info
REFRESH-INTERVAL;VALUE=DURATION:PT1H
X-Robots-Tag:noindex
X-PUBLISHED-TTL:PT1H
BEGIN:VTIMEZONE
TZID:Europe/Madrid
BEGIN:DAYLIGHT
TZOFFSETFROM:+0100
TZOFFSETTO:+0200
TZNAME:CEST
DTSTART:20230326T010000
END:DAYLIGHT
BEGIN:STANDARD
TZOFFSETFROM:+0200
TZOFFSETTO:+0100
TZNAME:CET
DTSTART:20231029T010000
END:STANDARD
BEGIN:DAYLIGHT
TZOFFSETFROM:+0100
TZOFFSETTO:+0200
TZNAME:CEST
DTSTART:20240331T010000
END:DAYLIGHT
BEGIN:STANDARD
TZOFFSETFROM:+0200
TZOFFSETTO:+0100
TZNAME:CET
DTSTART:20241027T010000
END:STANDARD
BEGIN:DAYLIGHT
TZOFFSETFROM:+0100
TZOFFSETTO:+0200
TZNAME:CEST
DTSTART:20250330T010000
END:DAYLIGHT
BEGIN:STANDARD
TZOFFSETFROM:+0200
TZOFFSETTO:+0100
TZNAME:CET
DTSTART:20251026T010000
END:STANDARD
END:VTIMEZONE
BEGIN:VEVENT
DTSTART;TZID=Europe/Madrid:20241109T073000
DTEND;TZID=Europe/Madrid:20241109T140000
DTSTAMP:20260423T210155
CREATED:20240929T214250Z
LAST-MODIFIED:20241030T191214Z
UID:2832-1731137400-1731160800@caminades.info
SUMMARY:La Morella 596 m (Baix Llobregat) - Cicle Meridià Verd (12a sortida)
DESCRIPTION:Descripció:\nLa Morella \nÉs un dels cims més significatius de massís del Garraf\, que destaca per la seva alçada prenent com a referència els cims veïns i per les instal·lacions dels RADARS de control de l’aeroport del Prat. \nDalt del cim hi ha plantada una gran creu de ferro. El cim per les seves dilatades panoràmiques és un vèrtex geodèsic de primer ordre\, El terreny rocós està constituït per roques calcàries amb intercalacions dolomítiques i en els seus contorns hi ha diferents avencs. \nEl seu cim\, degut a la facilitat d’accés està molt concorregut els dies festius. \nPuig de les Agulles \nUn altre dels cims que visitarem\, és el Puig de les Agulles\, nom que reben unes formacions rocalloses calcàries que destaquen per les seves formes\, dominant amb plenitud la fèrtil plana del delta del Llobregat i la mar Mediterrània. \nLa cova Cassimanya \nLa primera exploració de la cova és de Norbert Font i Sagué l’any 1898\, en la primera exploració ja es varen trobar restes humanes i ceràmiques\, posteriorment ha estat explorada amb interessants aportacions arqueològiques. \nLa cova està constituïda per una gran cambra de 13X5 metres i 5 metres d’alçada \nLlocs de pas:  \nCementiri de Begues – Cal Vallès – Pou d’aigua – Pla del Bruc – Cim de La Morella – Coll Sostrell – Cova Cassimanya – Puig de les Agulles – Coll de la Clota – Mas de la Clota (ruïnes) – Cementiri de Begues. \n  \nMés informació a la web del CEP \n  \n\nPunt de trobada a les 7.30 h:\nAparcament de l’Arxiu Comarcal de l’Alt Penedès \n \n\nInformació Addicional:\n\nOrganitza: Centre Excursionista del Penedès\nDesplaçament en cotxes particulars\nPunt de trobada: Aparcament de l’Arxiu Comarcal (Vilafranca)\nHora sortida: 7.30 h\nDificultat: fàcil\nPer participar-hi cal inscripció\nCal portar aigua i esmorzar\nDinarem a casa
URL:https://caminades.info/activitats/la-morella-596-m-baix-llobregat-cicle-meridia-verd-11a-sortida/
CATEGORIES:CEP
ATTACH;FMTTYPE=image/jpeg:https://caminades.info/wp-content/uploads/LaMorella.jpg
END:VEVENT
BEGIN:VEVENT
DTSTART;TZID=Europe/Madrid:20241124T100000
DTEND;TZID=Europe/Madrid:20241124T130000
DTSTAMP:20260423T210155
CREATED:20241124T201551Z
LAST-MODIFIED:20241124T202903Z
UID:3003-1732442400-1732453200@caminades.info
SUMMARY:Setmana de la Pedra Seca - Visita comentada a les barraques de pedra seca d’Olèrdola
DESCRIPTION:  \n\n\n\nVisita comentada a les barraques de pedra seca d’Olèrdola que han estat restaurades pel grup de pedra seca del  Centre Excursionista del Penedès. \nEn acabar la visita\, l’Ajuntament d’Olèrdola oferirà als assistents  a un refrigeri. \nCal portar calçat de muntanya\, aigua i alguna cosa per menjar. \nL’activitat és gratuïta\, però cal inscripció. \nMés informació a la web del CEP \n  \n\nFotografies de l’activitat:\n  \n\nPunt de trobada a les 10.00 h:\nÀrea de lleure de la Muntanyeta (Moja – Olèrdola) \n \n  \n\nInformació Addicional:\n\nOrganitza: Centre Excursionista del Penedès\nPunt de trobada: Aparcament àrea de pícnic de la Muntanyeta\nHora sortida: 10.00 h\nDificultat: fàcil\nPer participar-hi cal inscripció\nCal portar calçat de muntanya\, aigua i alguna cosa per menjar.
URL:https://caminades.info/activitats/setmana-de-la-pedra-seca-visita-comentada-a-les-barraques-de-pedra-seca-dolerdola/
CATEGORIES:CEP
ATTACH;FMTTYPE=image/jpeg:https://caminades.info/wp-content/uploads/BarraquesOlerdola.jpg
END:VEVENT
BEGIN:VEVENT
DTSTART;TZID=Europe/Madrid:20241130T073000
DTEND;TZID=Europe/Madrid:20241130T140000
DTSTAMP:20260423T210155
CREATED:20241122T192230Z
LAST-MODIFIED:20241122T195320Z
UID:2997-1732951800-1732975200@caminades.info
SUMMARY:Cim del turó de Can Pasqual 468 m (Barcelonès) - Cicle Meridià Verd (13a sortida)
DESCRIPTION:Llocs de pas:\nVallvidrera – Mina  Grott – Casa del Guarda – Pantà de Vallvidrera – Turó de Can Pasqual – Can Masdemont – Turó d’en Mates – Coll de Can Cuiàs – Font de Can Llevallol – Font de Can Espinagosa – Font de Sant Ramon – Ermita de Santa Maria de Vallvidrera. \nLlocs d’interès\nParc Natural de la Serra de Collserola. S’estén entre els rius Besòs  i Llobregat amb una superfície protegida d’11.000 ha. El nom de Collserola ve dels topònims; Coll i de S’Erola. (erola pla petit al cim d’una muntanya). El parc fou creat l’any 1987 i gestionat pels nou municipis que l’envolten. Conté una gran diversitat d’espècies en flora i fauna. \nMina Grott. Es va construir l’any 1855 per portar aigua del pantà de Vallvidrera a l’antic municipi de Sarrià. Als inicis del segle XX\, es va ampliar el túnel per transformar-lo en un trenet que pujava els barcelonins a la zona d’oci dels voltants del pantà. La instal·lació va funcionar fins a l’any 1909. \n El Pantà de Vallvidrera es va començar a construir l’any 1850 i es va acabar el 1860. Les dimensions de la presa son: 50 metres de llargada\, 3 de gruix\, i 15 d’alçada. Com s’ha dit abans es va construir per portar aigua a l’antic municipi de Sarrià\, fins que va caure en desús.  Entre els anys 2005-2006 va ser reformat íntegrament\, per preservar la fauna i la flora de l’entorn\, molt ric en amfibis\, com la granota Reineta espècie protegida. \n Actualment\, la casa del Guarda serveix com espai d’interpretació del Pantà. \nTuró de Can Pasqual. Malgrat la poca vista que es té actualment des del cim\, no sempre ha estat així\, quan es varen instal·lar la xarxa dels vèrtexs geodèsics a Catalunya\, a mitjans del segle XVII\, el cim estaria desforestat i la seva visió s’allargaria  fins a 25 km.      \n                                           -Fi de l’excursió-    \n Notes:  \nDinarem a casa.  \nLa pròxima excursió del Meridià Verd serà el gener de 2025\, al  cim de Sant Antoni d’Albinyana. \n  \nMés informació a la web del CEP \n  \n\nPunt de trobada a les 7.30 h:\nAparcament de l’Arxiu Comarcal de l’Alt Penedès \n \n\nInformació Addicional:\n\nOrganitza: Centre Excursionista del Penedès\nDesplaçament en cotxes particulars\nPunt de trobada: Aparcament de l’Arxiu Comarcal (Vilafranca)\nHora sortida: 7.30 h\nDificultat: fàcil\nPer participar-hi cal inscripció\nCal portar aigua i esmorzar\nDinarem a casa
URL:https://caminades.info/activitats/cim-del-turo-de-can-pasqual/
CATEGORIES:CEP
ATTACH;FMTTYPE=image/jpeg:https://caminades.info/wp-content/uploads/Turo-de-Can-Pasqual-Collserola.jpg
END:VEVENT
END:VCALENDAR