BEGIN:VCALENDAR
VERSION:2.0
PRODID:-//Caminades.info - ECPv6.15.20//NONSGML v1.0//EN
CALSCALE:GREGORIAN
METHOD:PUBLISH
X-WR-CALNAME:Caminades.info
X-ORIGINAL-URL:https://caminades.info
X-WR-CALDESC:Esdeveniments per Caminades.info
REFRESH-INTERVAL;VALUE=DURATION:PT1H
X-Robots-Tag:noindex
X-PUBLISHED-TTL:PT1H
BEGIN:VTIMEZONE
TZID:Europe/Madrid
BEGIN:DAYLIGHT
TZOFFSETFROM:+0100
TZOFFSETTO:+0200
TZNAME:CEST
DTSTART:20230326T010000
END:DAYLIGHT
BEGIN:STANDARD
TZOFFSETFROM:+0200
TZOFFSETTO:+0100
TZNAME:CET
DTSTART:20231029T010000
END:STANDARD
BEGIN:DAYLIGHT
TZOFFSETFROM:+0100
TZOFFSETTO:+0200
TZNAME:CEST
DTSTART:20240331T010000
END:DAYLIGHT
BEGIN:STANDARD
TZOFFSETFROM:+0200
TZOFFSETTO:+0100
TZNAME:CET
DTSTART:20241027T010000
END:STANDARD
BEGIN:DAYLIGHT
TZOFFSETFROM:+0100
TZOFFSETTO:+0200
TZNAME:CEST
DTSTART:20250330T010000
END:DAYLIGHT
BEGIN:STANDARD
TZOFFSETFROM:+0200
TZOFFSETTO:+0100
TZNAME:CET
DTSTART:20251026T010000
END:STANDARD
END:VTIMEZONE
BEGIN:VEVENT
DTSTART;TZID=Europe/Madrid:20240921T073000
DTEND;TZID=Europe/Madrid:20240921T140000
DTSTAMP:20260423T231058
CREATED:20240902T172010Z
LAST-MODIFIED:20241007T212504Z
UID:2774-1726903800-1726927200@caminades.info
SUMMARY:Montagut 964 m (Alt Camp) - Cicle Meridià Verd (11a sortida)
DESCRIPTION:Descripció:\nComençarem l’excursió a l’església de Sant Jaume de Montagut  baixant cap al barranc de les trencades\, on podrem admirar el magnífic exemplar de pi de la varietat pinassa de les Quatre Soques. Continuarem baixant per un ombrívol i bonic camí fins al poble de Querol municipi molt disseminat\, té actualment 527 habitants repartits en diverses urbanitzacions i agregats\, com Bonany i Esblada. Damunt d’un penyal hi ha les runes del que fou el castell. Edificat en el segle X com molts altres de la zona\, com castell de la frontera del riu Gaià. \nContinuem cap a la font de Querol molt ben arranjada però de raig minso. \nCim de Montagut 964 m per la seva panoràmica està  inclòs en el llistat dels 100 cims de la FEEC com a cim essencial. Dalt del cim hi havia el castell de Montagut. \nEsglésia de Sant Jaume de Montagut és un gran edifici gòtic del segle XIV\, edificat sobre un anterior d’origen romànic. Va ser restaurada l’any 2013 enderrocant la rectoria per estar molt malmesa. Adossat al costat hi ha l’antic cementiri. Com a nota curiosa cal dir que l’últim rector el van assassinar per robar-li els diners\, cas molt semblant al del santuari de Foix.     \nLlocs de pas:  \nEsglésia de Sant Jaume de Montagut – Pi de les Quatre soques – Cal Raquesens – Querol – Font de Querol – Cal Carrillo – Coll de Montagut – Coll de la Torre de Querol – Mas de la Font – Cim de Montagut – església de Sant Jaume. \n  \nMés informació a la web del CEP \n  \n\nPunt de trobada a les 7.30 h:\nAparcament de l’Arxiu Comarcal de l’Alt Penedès \n \n\nInformació Addicional:\n\nOrganitza: Centre Excursionista del Penedès\nDesplaçament en cotxes particulars\nPunt de trobada: Aparcament de l’Arxiu Comarcal (Vilafranca)\nHora sortida: 7.30 h\nDificultat: fàcil\nPer participar-hi cal inscripció\nCal portar aigua i esmorzar\nDinarem a casa
URL:https://caminades.info/activitats/montagut-964-m-alt-camp-cicle-meridia-verd-11a-sortida/
CATEGORIES:CEP
ATTACH;FMTTYPE=image/jpeg:https://caminades.info/wp-content/uploads/Montagut_500.jpg
END:VEVENT
END:VCALENDAR