BEGIN:VCALENDAR
VERSION:2.0
PRODID:-//Caminades.info - ECPv6.15.20//NONSGML v1.0//EN
CALSCALE:GREGORIAN
METHOD:PUBLISH
X-WR-CALNAME:Caminades.info
X-ORIGINAL-URL:https://caminades.info
X-WR-CALDESC:Esdeveniments per Caminades.info
REFRESH-INTERVAL;VALUE=DURATION:PT1H
X-Robots-Tag:noindex
X-PUBLISHED-TTL:PT1H
BEGIN:VTIMEZONE
TZID:Europe/Madrid
BEGIN:DAYLIGHT
TZOFFSETFROM:+0100
TZOFFSETTO:+0200
TZNAME:CEST
DTSTART:20230326T010000
END:DAYLIGHT
BEGIN:STANDARD
TZOFFSETFROM:+0200
TZOFFSETTO:+0100
TZNAME:CET
DTSTART:20231029T010000
END:STANDARD
BEGIN:DAYLIGHT
TZOFFSETFROM:+0100
TZOFFSETTO:+0200
TZNAME:CEST
DTSTART:20240331T010000
END:DAYLIGHT
BEGIN:STANDARD
TZOFFSETFROM:+0200
TZOFFSETTO:+0100
TZNAME:CET
DTSTART:20241027T010000
END:STANDARD
BEGIN:DAYLIGHT
TZOFFSETFROM:+0100
TZOFFSETTO:+0200
TZNAME:CEST
DTSTART:20250330T010000
END:DAYLIGHT
BEGIN:STANDARD
TZOFFSETFROM:+0200
TZOFFSETTO:+0100
TZNAME:CET
DTSTART:20251026T010000
END:STANDARD
END:VTIMEZONE
BEGIN:VEVENT
DTSTART;TZID=Europe/Madrid:20240316T070000
DTEND;TZID=Europe/Madrid:20240316T160000
DTSTAMP:20260424T172439
CREATED:20240115T122000Z
LAST-MODIFIED:20241007T212706Z
UID:2181-1710572400-1710604800@caminades.info
SUMMARY:Cicle Meridià Verd (7a sortida) - Matagalls 1.697 m (Osona\, Vallès Oriental)
DESCRIPTION:Descripció:\nEl Matagalls és un dels cims més emblemàtics i més freqüentats de Catalunya\, nosaltres però pujarem per un itinerari no massa freqüent\, però prou bonic\, que transcorre per una esplèndida fageda fins a coll Pregon. En el recorregut passarem per dues fonts molt ben arranjades: la font dels Llops i la font dels Mosquits. És a partir de coll Pregon\, ja anirem per l’itinerari més habitual que puja des de Sant Marçal. \nLlocs de pas:  \nColl de Bordoriol 1.087-Corral de la Vila – Coll de Joan – Font dels Llops – Font dels Mosquits – Coll Pregon – Collet del Home Mort – Matagalls – Coll Pregon – Coll de Ses Portadores -Pla dels Évols -Coll de Sant Marçal. \nMés informació a la web del CEP \n  \n\nPunt de trobada a les 7.00 h:\n \n  \n\nFotografies de la caminada:\n \n  \n\nInformació Addicional:\n\nOrganitza: Centre Excursionista del Penedès\nDesplaçament en autocar\nPunt de trobada: Estació d’autobusos de Vilafranca\nHora sortida: 7.00 h\nPer participar-hi cal inscripció\nCal portar aigua i esmorzar\n100 Cims
URL:https://caminades.info/activitats/cicle-meridia-verd-7a-sortida/
CATEGORIES:CEP
ATTACH;FMTTYPE=image/jpeg:https://caminades.info/wp-content/uploads/mataglls_032-500.jpg
END:VEVENT
BEGIN:VEVENT
DTSTART;TZID=Europe/Madrid:20240317T083000
DTEND;TZID=Europe/Madrid:20240317T130000
DTSTAMP:20260424T172439
CREATED:20240115T123038Z
LAST-MODIFIED:20240310T114233Z
UID:2183-1710664200-1710680400@caminades.info
SUMMARY:Caminada tram de Pontons
DESCRIPTION:Descripció:\nAquest any 2024 es farà la vintena edició de la caminada de resistència 7 Cims.Com a acte previ de celebració del vintè aniversari\, hem organitzat una caminada popular\, oberta a tothom que vulgui participar-hi.Aquesta caminada es farà el diumenge 17 de març\, recorrerem el nou i inèdit tram de la marxa 7 Cims 2024\, comprès entre el Cim del Solanes i la població de Pontons. A l’acabament hi haurà un refrigeri.Punt de trobada a Vilafranca a les 8 del Matí davant la Feca (carretera de Sant Martí)Punt de sortida de la Caminada a les 8.30 h al Poliesportiu de Pontons.Activitat gratuïta per tothom\, en cas de no està assegurat\, es farà una assegurança per un dia.Animeu-vos!!! \n  \nMés informació a la web del CEP \n  \n\nPunt de trobada a les 8.00 h:\n \n\nPunt d’inici de la caminada a les 8.30 h:\n \n\nInformació Addicional:\n\nOrganitza: Centre Excursionista del Penedès\nDesplaçament en cotxes particulars\nPer participar-hi cal inscripció\nCal portar aigua i esmorzar
URL:https://caminades.info/activitats/matinal-tematica/
CATEGORIES:CEP
ATTACH;FMTTYPE=image/jpeg:https://caminades.info/wp-content/uploads/Caminada-tram-Pontons.jpg
END:VEVENT
BEGIN:VEVENT
DTSTART;TZID=Europe/Madrid:20240324T070000
DTEND;TZID=Europe/Madrid:20240324T190000
DTSTAMP:20260424T172439
CREATED:20240307T160022Z
LAST-MODIFIED:20240307T160301Z
UID:2409-1711263600-1711306800@caminades.info
SUMMARY:XXI Caminada de Rams
DESCRIPTION:Descripció:\nEl recorregut enguany de la caminada de resistència de RAMS\, consisteix a fer el seguiment a peu de la Carrerada de Santa Coloma. \nAvui en dia\, molts d’aquests camins històrics s’estan perdent per manca d’ús\, ja que dels grans ramats pirinencs en queden pocs i els que hi ha no fan la transhumància a peu. \nEls temps\, els costums i les necessitats van evolucionant al llarg dels segles\, ara ens en queda el record i els hem anat adaptant a usos més lúdics i esportius. \nGaudim-los plenament a cada passa\, contemplant el cel\, el paisatge i la vegetació en la qual estarem immersos unes quantes hores. \nL’excursió començarà a la zona d’esports de la urbanització Jardins de Cunit\, Baix Penedès\, per finalitzar el recorregut a la urbanització de la Ponderosa\, al límit amb la comarca de l’Alt Camp. \n  \nMés informació a la web del CEP \n  \n\nPunt de trobada a les 7.00 h:\n \n\nInformació Addicional:\n\nOrganitza: Centre Excursionista del Penedès\nDesplaçament en autocar\nPunt de trobada: Estació Autobusos Vilafranca\nPer participar-hi cal inscripció\nCal portar aigua\, esmorzar i dinar
URL:https://caminades.info/activitats/xxi-caminada-de-rams/
CATEGORIES:CEP
ATTACH;FMTTYPE=image/jpeg:https://caminades.info/wp-content/uploads/Rams2024CEP.jpg
END:VEVENT
END:VCALENDAR