BEGIN:VCALENDAR
VERSION:2.0
PRODID:-//Caminades.info - ECPv6.15.20//NONSGML v1.0//EN
CALSCALE:GREGORIAN
METHOD:PUBLISH
X-WR-CALNAME:Caminades.info
X-ORIGINAL-URL:https://caminades.info
X-WR-CALDESC:Esdeveniments per Caminades.info
REFRESH-INTERVAL;VALUE=DURATION:PT1H
X-Robots-Tag:noindex
X-PUBLISHED-TTL:PT1H
BEGIN:VTIMEZONE
TZID:Europe/Madrid
BEGIN:DAYLIGHT
TZOFFSETFROM:+0100
TZOFFSETTO:+0200
TZNAME:CEST
DTSTART:20230326T010000
END:DAYLIGHT
BEGIN:STANDARD
TZOFFSETFROM:+0200
TZOFFSETTO:+0100
TZNAME:CET
DTSTART:20231029T010000
END:STANDARD
BEGIN:DAYLIGHT
TZOFFSETFROM:+0100
TZOFFSETTO:+0200
TZNAME:CEST
DTSTART:20240331T010000
END:DAYLIGHT
BEGIN:STANDARD
TZOFFSETFROM:+0200
TZOFFSETTO:+0100
TZNAME:CET
DTSTART:20241027T010000
END:STANDARD
BEGIN:DAYLIGHT
TZOFFSETFROM:+0100
TZOFFSETTO:+0200
TZNAME:CEST
DTSTART:20250330T010000
END:DAYLIGHT
BEGIN:STANDARD
TZOFFSETFROM:+0200
TZOFFSETTO:+0100
TZNAME:CET
DTSTART:20251026T010000
END:STANDARD
END:VTIMEZONE
BEGIN:VEVENT
DTSTART;TZID=Europe/Madrid:20240217T070000
DTEND;TZID=Europe/Madrid:20240217T140000
DTSTAMP:20260424T172444
CREATED:20231225T205038Z
LAST-MODIFIED:20241007T212725Z
UID:1945-1708153200-1708178400@caminades.info
SUMMARY:Cicle Meridià Verd (6a sortida) - Turó d’en Galzeran o d'en Mates\, 485 m (Maresme)
DESCRIPTION:Descripció:\nEl Turó Galzeran\, o d’en Mates \nÉs una muntanya de 485 metres situada a la Serralada de Marina\, té la particularitat que per la seva esplèndida vista\, l’any 1794 va ser escollida per efectuar treballs de triangulació\, com totes les que hem anat visitant fins ara. \nTambé se’l coneix com el Telègraf\, segurament hi havia una torre telegràfica. També ha estat escollit com a 100 cims de la FEEC. I és vèrtex geodèsic de primera. \nLlocs de pas:  \nLa Conreria -Turó de la Creu Peluda – Turó de Galzeran 485 m. – Font de la Teula – Turó de Castellruf – Dolmen de Castellruf – Font de can Barbeta – Can Barbeta – Coll de Can Corbera – Castell de Sant Miquel – Coll Mercader – Font de Beu i Tapa – Martorelles. \nMés informació a la web del CEP \n  \n\nFotografies de la caminada:\n \n  \n\nPunt de trobada a les 7.00 h:\n \n\nInformació Addicional:\n\nOrganitza: Centre Excursionista del Penedès\nDesplaçament en autocar\nPunt de trobada: Estació d’autobusos de Vilafranca\nHora sortida: 7.00 h\nPer participar-hi cal inscripció\nCal portar aigua i esmorzar\nDinarem a casa\, ja que l’excursió no és lluny\n100 Cims
URL:https://caminades.info/activitats/cicle-meridia-verd-06/
CATEGORIES:CEP
ATTACH;FMTTYPE=image/jpeg:https://caminades.info/wp-content/uploads/Galzeran.jpg
END:VEVENT
END:VCALENDAR