BEGIN:VCALENDAR
VERSION:2.0
PRODID:-//Caminades.info - ECPv6.15.20//NONSGML v1.0//EN
CALSCALE:GREGORIAN
METHOD:PUBLISH
X-ORIGINAL-URL:https://caminades.info
X-WR-CALDESC:Esdeveniments per Caminades.info
REFRESH-INTERVAL;VALUE=DURATION:PT1H
X-Robots-Tag:noindex
X-PUBLISHED-TTL:PT1H
BEGIN:VTIMEZONE
TZID:Europe/Madrid
BEGIN:DAYLIGHT
TZOFFSETFROM:+0100
TZOFFSETTO:+0200
TZNAME:CEST
DTSTART:20220327T010000
END:DAYLIGHT
BEGIN:STANDARD
TZOFFSETFROM:+0200
TZOFFSETTO:+0100
TZNAME:CET
DTSTART:20221030T010000
END:STANDARD
BEGIN:DAYLIGHT
TZOFFSETFROM:+0100
TZOFFSETTO:+0200
TZNAME:CEST
DTSTART:20230326T010000
END:DAYLIGHT
BEGIN:STANDARD
TZOFFSETFROM:+0200
TZOFFSETTO:+0100
TZNAME:CET
DTSTART:20231029T010000
END:STANDARD
BEGIN:DAYLIGHT
TZOFFSETFROM:+0100
TZOFFSETTO:+0200
TZNAME:CEST
DTSTART:20240331T010000
END:DAYLIGHT
BEGIN:STANDARD
TZOFFSETFROM:+0200
TZOFFSETTO:+0100
TZNAME:CET
DTSTART:20241027T010000
END:STANDARD
END:VTIMEZONE
BEGIN:VEVENT
DTSTART;TZID=Europe/Madrid:20231217T070000
DTEND;TZID=Europe/Madrid:20231217T190000
DTSTAMP:20260425T030514
CREATED:20231128T161055Z
LAST-MODIFIED:20231219T193140Z
UID:1590-1702796400-1702839600@caminades.info
SUMMARY:50è Pessebre de muntanya al cim del Roc del Migdia 1.153 m
DESCRIPTION:Descripció:\nEnguany per la caminada de la col·locació del pessebre\, hem escollit un cim d’un paratge poc conegut\, i poc massificat\, però amb un atractiu molt especial per la seva semblança al massís de Montserrat\, tot i que en extensió més reduïda. \nEl massís és també conegut com les Encantades. \nL’excursió és curta i fàcil\, apta per tothom\, tal com correspon amb la col·locació del pessebre per donar la possibilitat d’una bona participació. \nDalt del cim\, un any més col·locarem el pessebre\, obra d’en Joan Solis\, i cantarem les nadales tradicionals. \n  \nMés informació a la web del CEP \n  \n\nFotografies de la sortida:\n \n  \n\nInformació Addicional:\n\nDesplaçament en autocar\nPunt de trobada: Estació d’autobusos de Vilafranca\nHora: 7.00 h\nPer participar-hi cal inscripció\nCal portar esmorzar\, aigua i ganyips pel camí\nPer dinar\, com cada any anirem a dinar al restaurant per celebrar les festes nadalenques. En aquesta ocasió al restaurant La Casanova de Cambrils\n100 Cims
URL:https://caminades.info/activitats/50e-pessebre-de-muntanya-al-cim-del-roc-del-migdia-1-153-m/
CATEGORIES:CEP
ATTACH;FMTTYPE=image/jpeg:https://caminades.info/wp-content/uploads/2023/11/Montserratines-14.jpg
END:VEVENT
END:VCALENDAR