BEGIN:VCALENDAR
VERSION:2.0
PRODID:-//Caminades.info - ECPv6.15.20//NONSGML v1.0//EN
CALSCALE:GREGORIAN
METHOD:PUBLISH
X-WR-CALNAME:Caminades.info
X-ORIGINAL-URL:https://caminades.info
X-WR-CALDESC:Esdeveniments per Caminades.info
REFRESH-INTERVAL;VALUE=DURATION:PT1H
X-Robots-Tag:noindex
X-PUBLISHED-TTL:PT1H
BEGIN:VTIMEZONE
TZID:Europe/Madrid
BEGIN:DAYLIGHT
TZOFFSETFROM:+0100
TZOFFSETTO:+0200
TZNAME:CEST
DTSTART:20240331T010000
END:DAYLIGHT
BEGIN:STANDARD
TZOFFSETFROM:+0200
TZOFFSETTO:+0100
TZNAME:CET
DTSTART:20241027T010000
END:STANDARD
BEGIN:DAYLIGHT
TZOFFSETFROM:+0100
TZOFFSETTO:+0200
TZNAME:CEST
DTSTART:20250330T010000
END:DAYLIGHT
BEGIN:STANDARD
TZOFFSETFROM:+0200
TZOFFSETTO:+0100
TZNAME:CET
DTSTART:20251026T010000
END:STANDARD
BEGIN:DAYLIGHT
TZOFFSETFROM:+0100
TZOFFSETTO:+0200
TZNAME:CEST
DTSTART:20260329T010000
END:DAYLIGHT
BEGIN:STANDARD
TZOFFSETFROM:+0200
TZOFFSETTO:+0100
TZNAME:CET
DTSTART:20261025T010000
END:STANDARD
END:VTIMEZONE
BEGIN:VEVENT
DTSTART;TZID=Europe/Madrid:20251221T090000
DTEND;TZID=Europe/Madrid:20251221T140000
DTSTAMP:20260424T213032
CREATED:20251214T215033Z
LAST-MODIFIED:20251214T215455Z
UID:3726-1766307600-1766325600@caminades.info
SUMMARY:Sant Joan de Mediona
DESCRIPTION:Descripció:\nAquest diumenge 21 desembre\, farem una excursió (gratuïta) per la zona de Sant Joan de Mediona. \n\n8\,5 km\nDificultat mitjana.\nDesprés d’esmorzar farem una breu meditació.\n\nSortirem des de la fleca Rius de la rambla de la Girada (Vilafranca del Penedès) a les 9 h en punt en cotxes particulars. \nImprescindible inscripció prèvia: info@caminaires.cat \nBona caminada!! \n  \n\nPunt de trobada a les 9.00 h:\n \n  \n\nNota:\nTotes les nostres sortides són gratuïtes i obertes a tothom; podeu difondre al màxim aquesta informació\, però tots els participants han d’acceptar els riscos inherents a la participació en una Ruta col·lectiva com aquesta\, i que eximeixen als Organitzadors dels CAMINAIRES DE LA GIRADA i Guies de l’excursió (que no són professionals) de les responsabilitats derivades de qualsevol perjudici que patís per deficiències en les infraestructures viàries\, senders\, recorreguts i camins. Així mateix\, cadascú ha d’admetre la possibilitat de patir o causar un accident a un tercer aliè a l’excursió col·lectiva\, assumint personalment la responsabilitat íntegra derivada d’aquests accidents\, excloent als CAMINAIRES DE LA GIRADA i qualsevol persona física o jurídica vinculada a l’organització d’aquesta excursió de qualsevol responsabilitat derivada d’aquests.
URL:https://caminades.info/activitats/sant-joan-de-mediona/
CATEGORIES:CG
ATTACH;FMTTYPE=image/jpeg:https://caminades.info/wp-content/uploads/Mediona.jpg
ORGANIZER;CN="Caminaires de la Girada":MAILTO:info@caminaires.cat
END:VEVENT
END:VCALENDAR