BEGIN:VCALENDAR
VERSION:2.0
PRODID:-//Caminades.info - ECPv6.15.20//NONSGML v1.0//EN
CALSCALE:GREGORIAN
METHOD:PUBLISH
X-WR-CALNAME:Caminades.info
X-ORIGINAL-URL:https://caminades.info
X-WR-CALDESC:Esdeveniments per Caminades.info
REFRESH-INTERVAL;VALUE=DURATION:PT1H
X-Robots-Tag:noindex
X-PUBLISHED-TTL:PT1H
BEGIN:VTIMEZONE
TZID:Europe/Madrid
BEGIN:DAYLIGHT
TZOFFSETFROM:+0100
TZOFFSETTO:+0200
TZNAME:CEST
DTSTART:20240331T010000
END:DAYLIGHT
BEGIN:STANDARD
TZOFFSETFROM:+0200
TZOFFSETTO:+0100
TZNAME:CET
DTSTART:20241027T010000
END:STANDARD
BEGIN:DAYLIGHT
TZOFFSETFROM:+0100
TZOFFSETTO:+0200
TZNAME:CEST
DTSTART:20250330T010000
END:DAYLIGHT
BEGIN:STANDARD
TZOFFSETFROM:+0200
TZOFFSETTO:+0100
TZNAME:CET
DTSTART:20251026T010000
END:STANDARD
BEGIN:DAYLIGHT
TZOFFSETFROM:+0100
TZOFFSETTO:+0200
TZNAME:CEST
DTSTART:20260329T010000
END:DAYLIGHT
BEGIN:STANDARD
TZOFFSETFROM:+0200
TZOFFSETTO:+0100
TZNAME:CET
DTSTART:20261025T010000
END:STANDARD
END:VTIMEZONE
BEGIN:VEVENT
DTSTART;TZID=Europe/Madrid:20250622T080000
DTEND;TZID=Europe/Madrid:20250622T133000
DTSTAMP:20260425T152058
CREATED:20250614T105715Z
LAST-MODIFIED:20250614T105715Z
UID:3374-1750579200-1750599000@caminades.info
SUMMARY:Excursió fresca al Riu Brugent
DESCRIPTION:Descripció:\nEl diumenge 22 de juny\, farem una excursió fresca al Riu Brugent (fàcil de 8\,5 km) bastant ombrívola. Aparcarem al poble de Capafonts. Al riu farem un descans en un dels fantàstics tolls que hi ha.Si algú es vol refrescar\, ho podrà fer. En tenir 1 hora i quart de camí en cotxe\, aquesta vegada sortirem a les 8 h en punt en cotxes particulars (qui no en tingui podrà venir amb altres persones) des de la fleca Rius de la Rambla de la Girada (Vilafranca del Penedès). Haurem tornat a quarts de 2. \nÉs una activitat gratuïta i oberta a tothom. \nÉs imprescindible la inscripció prèvia amb nom i cognom a: info@caminaires.cat \nBona caminada!! \n  \n\nPunt de trobada a les 8.00 h:\n \n  \n\nNota:\nTotes les nostres sortides són gratuïtes i obertes a tothom; podeu difondre al màxim aquesta informació\, però tots els participants han d’acceptar els riscos inherents a la participació en una Ruta col·lectiva com aquesta\, i que eximeixen als Organitzadors dels CAMINAIRES DE LA GIRADA i Guies de l’excursió (que no són professionals) de les responsabilitats derivades de qualsevol perjudici que patís per deficiències en les infraestructures viàries\, senders\, recorreguts i camins. Així mateix\, cadascú ha d’admetre la possibilitat de patir o causar un accident a un tercer aliè a l’excursió col·lectiva\, assumint personalment la responsabilitat íntegra derivada d’aquests accidents\, excloent als CAMINAIRES DE LA GIRADA i qualsevol persona física o jurídica vinculada a l’organització d’aquesta excursió de qualsevol responsabilitat derivada d’aquests.
URL:https://caminades.info/activitats/excursio-fresca-al-riu-brugent/
CATEGORIES:CG
ATTACH;FMTTYPE=image/jpeg:https://caminades.info/wp-content/uploads/Riu-Brugent-500.jpg
ORGANIZER;CN="Caminaires de la Girada":MAILTO:info@caminaires.cat
END:VEVENT
END:VCALENDAR