BEGIN:VCALENDAR
VERSION:2.0
PRODID:-//Caminades.info - ECPv6.15.20//NONSGML v1.0//EN
CALSCALE:GREGORIAN
METHOD:PUBLISH
X-WR-CALNAME:Caminades.info
X-ORIGINAL-URL:https://caminades.info
X-WR-CALDESC:Esdeveniments per Caminades.info
REFRESH-INTERVAL;VALUE=DURATION:PT1H
X-Robots-Tag:noindex
X-PUBLISHED-TTL:PT1H
BEGIN:VTIMEZONE
TZID:Europe/Madrid
BEGIN:DAYLIGHT
TZOFFSETFROM:+0100
TZOFFSETTO:+0200
TZNAME:CEST
DTSTART:20250330T010000
END:DAYLIGHT
BEGIN:STANDARD
TZOFFSETFROM:+0200
TZOFFSETTO:+0100
TZNAME:CET
DTSTART:20251026T010000
END:STANDARD
BEGIN:DAYLIGHT
TZOFFSETFROM:+0100
TZOFFSETTO:+0200
TZNAME:CEST
DTSTART:20260329T010000
END:DAYLIGHT
BEGIN:STANDARD
TZOFFSETFROM:+0200
TZOFFSETTO:+0100
TZNAME:CET
DTSTART:20261025T010000
END:STANDARD
BEGIN:DAYLIGHT
TZOFFSETFROM:+0100
TZOFFSETTO:+0200
TZNAME:CEST
DTSTART:20270328T010000
END:DAYLIGHT
BEGIN:STANDARD
TZOFFSETFROM:+0200
TZOFFSETTO:+0100
TZNAME:CET
DTSTART:20271031T010000
END:STANDARD
END:VTIMEZONE
BEGIN:VEVENT
DTSTART;VALUE=DATE:20260207
DTEND;VALUE=DATE:20260208
DTSTAMP:20260422T120305
CREATED:20260112T235558Z
LAST-MODIFIED:20260123T212834Z
UID:3788-1770422400-1770508799@caminades.info
SUMMARY:Caminada Sankutrail (Sant Cugat Sesgarrigues)
DESCRIPTION:Descripció:\nLa caminada de 7 km de la Santkutrail és una opció perfecta per a aquells que volen gaudir de la natura i de l’ambient esportiu sense la pressió de la competició. Amb un desnivell positiu de 190 metres\, aquesta marxa no competitiva ofereix un recorregut assequible però alhora gratificant\, ideal per a famílies\, amics i amants de la natura. \n  \nMés informació sobre la caminada i altres opcions\, a la seva web \n  \n\nInformació addicional:\n\nOpció bàsica – 5 €\,  Ideal si vols viure l’experiència de la CAMINADA al millor preu. Inclou dorsal\, assegurança d’accident\, avituallament final i tots els serveis de la prova.\nOpció amb samarreta oficial – 15 €\, A més de tot el que inclou la inscripció bàsica\, t’emportes la samarreta oficial de la SantkuTrail 2026\, confeccionada amb teixit tècnic premium\, transpirable i d’alta qualitat. Una peça exclusiva per recordar la teva participació en aquesta nova edició.\n\n 
URL:https://caminades.info/activitats/caminada-sankutrail-sant-cugat-sesgarrigues/
CATEGORIES:Caminada
ATTACH;FMTTYPE=image/jpeg:https://caminades.info/wp-content/uploads/2025_02_01_Santkutrail_131.jpg
END:VEVENT
END:VCALENDAR