BEGIN:VCALENDAR
VERSION:2.0
PRODID:-//Caminades.info - ECPv6.15.20//NONSGML v1.0//EN
CALSCALE:GREGORIAN
METHOD:PUBLISH
X-WR-CALNAME:Caminades.info
X-ORIGINAL-URL:https://caminades.info
X-WR-CALDESC:Esdeveniments per Caminades.info
REFRESH-INTERVAL;VALUE=DURATION:PT1H
X-Robots-Tag:noindex
X-PUBLISHED-TTL:PT1H
BEGIN:VTIMEZONE
TZID:Europe/Madrid
BEGIN:DAYLIGHT
TZOFFSETFROM:+0100
TZOFFSETTO:+0200
TZNAME:CEST
DTSTART:20250330T010000
END:DAYLIGHT
BEGIN:STANDARD
TZOFFSETFROM:+0200
TZOFFSETTO:+0100
TZNAME:CET
DTSTART:20251026T010000
END:STANDARD
BEGIN:DAYLIGHT
TZOFFSETFROM:+0100
TZOFFSETTO:+0200
TZNAME:CEST
DTSTART:20260329T010000
END:DAYLIGHT
BEGIN:STANDARD
TZOFFSETFROM:+0200
TZOFFSETTO:+0100
TZNAME:CET
DTSTART:20261025T010000
END:STANDARD
BEGIN:DAYLIGHT
TZOFFSETFROM:+0100
TZOFFSETTO:+0200
TZNAME:CEST
DTSTART:20270328T010000
END:DAYLIGHT
BEGIN:STANDARD
TZOFFSETFROM:+0200
TZOFFSETTO:+0100
TZNAME:CET
DTSTART:20271031T010000
END:STANDARD
END:VTIMEZONE
BEGIN:VEVENT
DTSTART;TZID=Europe/Madrid:20260418T063000
DTEND;TZID=Europe/Madrid:20260418T180000
DTSTAMP:20260421T055730
CREATED:20260410T202806Z
LAST-MODIFIED:20260410T202806Z
UID:3918-1776493800-1776535200@caminades.info
SUMMARY:Mas de Melons - 5a sortida del cicle Parcs Naturals
DESCRIPTION:Descripció: \nPARCS NATURALS DE CATALUNYA \nLa Reserva Natural de Mas de Melons\, és un espai agrícola dels Secans de la Plana de Lleida que consta d’una superfície de 1.431 ha\, on s’alberga la principal població de ganga de Catalunya\, tot i que també hi podem trobar altres espècies d’ocells estèpics com el torlit\, el gaig blau\, el botxí\, etc. Aquestes aus troben els seus hàbitats ideals en: guarets\, erms i conreus gestionats per ramats d’oví\, i en camps d’oliveres i ametllers que els ofereix aquest espai tan singular. \n  \nMés informació a la web del CEP \n  \n\nPunt de trobada a les 6.30 h:\nA l’aparcament de l’Arxiu Comarcal \n \n\nInformació Addicional:\n\nOrganitza: Centre Excursionista del Penedès\nDesplaçament en: cotxes particulars\nPunt de trobada:  Aparcament de l’Arxiu Comarcal (Vilafranca)\nHora sortida: 6.30 h\nDificultat: Moderada\n22 km\, desnivell +188 m\, unes 6\,5 hores.\nPer participar-hi cal inscripció.\nCal portar aigua\, esmorzar\, dinar\, protecció solar i el que creieu oportú per l’època i temps previst.
URL:https://caminades.info/activitats/mas-de-melons-5a-sortida-del-cicle-parcs-naturals/
CATEGORIES:CEP
ATTACH;FMTTYPE=image/jpeg:https://caminades.info/wp-content/uploads/mas-de-melons.jpg
END:VEVENT
END:VCALENDAR